BEGIN:VCALENDAR
VERSION:2.0
PRODID:-//ESSE Musicbar Winterthur//NONSGML kigkonsult.se iCalcreator 2.41.92//
CALSCALE:GREGORIAN
METHOD:PUBLISH
UID:32666537-3061-4237-b638-386463356165
X-WR-CALNAME:iCagenda
X-WR-CALDESC:Event Management Extension for Joomla!
X-WR-RELCALID:3E26604A-50F4-4449-8B3E-E4F4932D05B5
X-WR-TIMEZONE:Europe/Zurich
BEGIN:VTIMEZONE
TZID:Europe/Zurich
TZUNTIL:20240331T010000Z
BEGIN:STANDARD
TZNAME:CET
DTSTART:20211031T030000
TZOFFSETFROM:+0200
TZOFFSETTO:+0100
RDATE:20221030T030000
RDATE:20231029T030000
END:STANDARD
BEGIN:DAYLIGHT
TZNAME:CEST
DTSTART:20220327T020000
TZOFFSETFROM:+0100
TZOFFSETTO:+0200
RDATE:20230326T020000
END:DAYLIGHT
END:VTIMEZONE
BEGIN:VEVENT
UID:30616161-6435-4861-b032-623362323030
DTSTAMP:20260419T214726Z
CATEGORIES:Blues
CLASS:PUBLIC
DESCRIPTION;ALTREP="CID:<FFFF__=0ABBE548DFE235B58f9e8a93d@coffeebean.com>":
 «Prisoner of the Blues» – nach der Anklage «Charged with the Blues» jetzt 
 also Gefangene des Blues. Die vierköpfige Formation rund um Frontman Pat b
 egeistert mit gefühlvollen Eigenkompositionen und Bluesklassikern eine ste
 tig wachsende Fangemeinde. Mit viel Spielfreude präsentiert\, trifft der B
 lues von der Bühne direkt ins Herz.\nAuch auf dem brandneuen Album bleibt 
 die Band dem Blues treu verbunden und reizt ihn in allen Facetten aus. «Ai
 n’t coming back»\, «Dusty Road» oder das prophetische «When the curtain co
 mes down»\; die neuen Songs kommen alle aus dem Leben und lassen niemanden
  unberührt!\nPatrick Lämmle (g\, voc)\, Chrigi Roffler (keyb)\, Billy Wirz
  (b)\, Hani Ali (dr)\nhttps://www.blueschargers.com
DTSTART:20220624T181500Z
DTEND:20220624T181500Z
GEO:00;0
LOCATION:
ORGANIZER:
SEQUENCE:1
SUMMARY:Pat & The BLUESchargers – CD-Taufe: «Prisoner Of The Blues»
TRANSP:OPAQUE
URL:https://www.esse.bar/index.php/veranstaltungen/vergangene-veranstaltung
 en/1607-pat-the-blueschargers-cd-taufe-prisoner-of-the-blues/2022-06-24-20
 -15
END:VEVENT
END:VCALENDAR
