BEGIN:VCALENDAR
VERSION:2.0
PRODID:-//ESSE Musicbar Winterthur//NONSGML kigkonsult.se iCalcreator 2.41.92//
CALSCALE:GREGORIAN
METHOD:PUBLISH
UID:64313836-3863-4665-b932-646362323237
X-WR-CALNAME:iCagenda
X-WR-CALDESC:Event Management Extension for Joomla!
X-WR-RELCALID:3E26604A-50F4-4449-8B3E-E4F4932D05B5
X-WR-TIMEZONE:Europe/Zurich
BEGIN:VTIMEZONE
TZID:Europe/Zurich
TZUNTIL:20240331T010000Z
BEGIN:STANDARD
TZNAME:CET
DTSTART:20211031T030000
TZOFFSETFROM:+0200
TZOFFSETTO:+0100
RDATE:20221030T030000
RDATE:20231029T030000
END:STANDARD
BEGIN:DAYLIGHT
TZNAME:CEST
DTSTART:20220327T020000
TZOFFSETFROM:+0100
TZOFFSETTO:+0200
RDATE:20230326T020000
END:DAYLIGHT
END:VTIMEZONE
BEGIN:VEVENT
UID:32366439-6433-4363-b233-646665613938
DTSTAMP:20260419T225802Z
CATEGORIES:Jazz Jam Point Session
CLASS:PUBLIC
DESCRIPTION;ALTREP="CID:<FFFF__=0ABBE548DFE235B58f9e8a93d@coffeebean.com>":
 Musikanten\, die mitjamen möchten melden sich direkt bei Richard Schmied r
 schmied(at)bluewin.ch | Telefon 044-869 42 32 – mobil 079-433 76 33\nUnter
  dem Label Jam Point finden seit Juli 2014 regelmässige Jam-Sessions statt
 \, neu ab Januar 2022 in der Musicbar Esse in Winterthur. Die Organisatore
 n von Jam-Point haben vorerst sechs Sessions für das Jahr 2022 mit der Ess
 e-Führung vereinbart an den Daten 26. Januar\, 30. März\, 25. Mai\, 31. Au
 gust\, 26. September und 30. November 2022.\nDie ersten beiden Sessions am
  26. Januar und 30 März 22 waren bereits schöne Erfolge. Die Stimmung war 
 fantastisch und Musiker sowie Publikum waren begeistert von der neuen Loka
 lität für die regelmässig alle zwei Monate geplanten Veranstaltungen. So k
 önnen wir uns nun auf die dritte Session freuen\, die am 25. Mai 2022 stat
 tfinden wird. Der „special guest“\, den wir für diesen Event eingeladen ha
 ben\, ist bei uns schon sehr bekannt\, hat er doch in der Vergangenheit an
  einigen Sessions als normaler Jamteilnehmer mitgespielt. An dieser Verans
 taltung wird er zusammen mit der Jam-Point-Group den Jam einleiten und dab
 ei seine persönlichen Lieblingssongs vorstellen. Wir haben das grosse Verg
 nügen\, bei uns zu begrüssen:\nRichard Lipiec\, Tenorsaxophon\, Klarinette
 \, Querflöte und ev. auch Gesang.\nDer aus Polen stammenden Berufsmusiker 
 studierte an der Musikhochschule Wroclaw und schloss 1972 mit dem Diplom a
 b. Anschließend spielte er beim Warschauer Radio-Orchester sowie bei versc
 hiedenen Jazzgruppen mit. Ende der 1970er Jahre migrierte er mit seiner Fa
 milie in die Schweiz\, wo er als Musiklehrer tätig war. Inzwischen lebt er
  in Langenthal.\nRichard Lipiec leitet sein eigenes Quartett und spielte l
 ange Jahre mit dem Metronome Quintett. Er ist in der Schweiz ein begehrter
  Bandmusiker und international ein geschätzter Zuzüger\, der in jedem Fall
  für swingende gute Stimmung und Groove sorgt. Wir\, die Jam-Point-Group b
 esteht aus Bruno Bosshardt\, reeds\, Rolf Winiger\, tb\, Richi Schmied\, t
 p/flh\, Elmar Kluth\, p\, Timon Roth\, b und Bernie Ruch\, dr. freuen uns 
 auf seinen Auftritt.\nZur offenen Jamsession sind bereits einige weitere G
 äste angemeldet. Weitere Anmeldungen werden erwartet. Zudem erwarten wir w
 ie üblich weitere Musikerinnen und Musiker\, die ganz spontan an der Sessi
 on teilnehmen. Die Jam-Point Sessions sind immer attraktiv\, wir werden ge
 meinsam einen wundervollen Abend mit viel Swing und Groove erleben.\nhttp:
 //www.jam-point.ch/index.htm\nMusikanten\, die mitjamen möchten melden sic
 h direkt bei Richard Schmied rschmied(at)bluewin.ch | Telefon 044-869 42 3
 2 – mobil 079-433 76 33
DTSTART:20220525T181500Z
DTEND:20220525T181500Z
GEO:00;0
LOCATION:
ORGANIZER:
SEQUENCE:1
SUMMARY:Jam Point Session
TRANSP:OPAQUE
URL:https://www.esse.bar/index.php/veranstaltungen/vergangene-veranstaltung
 en/1608-jam-point-session-3/2022-05-25-20-15
END:VEVENT
END:VCALENDAR
