BEGIN:VCALENDAR
VERSION:2.0
PRODID:-//ESSE Musicbar Winterthur//NONSGML kigkonsult.se iCalcreator 2.41.92//
CALSCALE:GREGORIAN
METHOD:PUBLISH
UID:34663038-3261-4638-b263-656631623961
X-WR-CALNAME:iCagenda
X-WR-CALDESC:Event Management Extension for Joomla!
X-WR-RELCALID:3E26604A-50F4-4449-8B3E-E4F4932D05B5
X-WR-TIMEZONE:Europe/Zurich
BEGIN:VTIMEZONE
TZID:Europe/Zurich
TZUNTIL:20240331T010000Z
BEGIN:STANDARD
TZNAME:CET
DTSTART:20211031T030000
TZOFFSETFROM:+0200
TZOFFSETTO:+0100
RDATE:20221030T030000
RDATE:20231029T030000
END:STANDARD
BEGIN:DAYLIGHT
TZNAME:CEST
DTSTART:20220327T020000
TZOFFSETFROM:+0100
TZOFFSETTO:+0200
RDATE:20230326T020000
END:DAYLIGHT
END:VTIMEZONE
BEGIN:VEVENT
UID:33353537-3330-4032-b837-616162306535
DTSTAMP:20260419T233033Z
CATEGORIES:Jazz
CLASS:PUBLIC
DESCRIPTION;ALTREP="CID:<FFFF__=0ABBE548DFE235B58f9e8a93d@coffeebean.com>":
 «Noumuso» steht für «nouvelle musique solar» und ist ein interkulturelles 
 Projekt mit Topmusikern aus Senegal\, Guinea\, Südafrika\, Kuba und der Sc
 hweiz. Zeitlose und gleichzeitig moderne afrikanische Musik produced in Sw
 itzerland! Weit entfernt von verwestlichten Musikbusiness-Ideen\, setzen «
 Noumuso» die Ur-Klänge afrikanischer Instrumente in eine neue Welt\, in de
 r sie berühren können\, ohne in den Schemen der traditionellen Musik steck
 en zu bleiben.\nZur Band gehören Drummer und Producer EmaNuel\, der aus ei
 ner bekannten senegalesischen Griotfamilie stammende Koraspieler und Sänge
 r Sadio Cissokho\, Djembéfola Yamoussa Sylla aus Guinea und Bassist David 
 Mäder. Für ihre erste Albumproduktion «Freequency Of Da Sun» (out 21.02.20
 21 Sogue Records) wurden 17 internationale Musiker eingeladen. In 17 Songs
  hört man das Resultat: eine Vielfalt an Sounds von verschiedensten Instru
 menten und ein frischer Mix afrikanischer und afroamerikanischer Stile. Ko
 ra\, Djembé\, Doundoun\, Gitarre und Kalimba treffen auf universale Pianos
  und HipHop-inspirierte beats. Oft instrumental\, manchmal mit Vocals\, si
 nd es die melodiösen Beats\, die durch das ganze Album führen und je nach 
 Stück mit westafrikanischer Mandigue\, Jazz oder Neosoulvibe flirten. Die 
 Texte sind in malinke\, sousou\, englisch und französisch und behandeln Th
 emen wie Geduld\, Vertrauen\, Freiheit\, Zusammenhalt\, Friede\, Liebe\, F
 reude und die Zukunft unserer Kinder.\nAuf dem Album spielt u.a. auch der 
 südafrikanische Jazzpianist und BlueNoteRecord-Artist Nduduzo Makhathini. 
 Er ist der zur Zeit meistgefeierte afrikanische Jazzmusiker und Gewinner e
 tlicher Preise. Er gilt als Leitfigur der starken jungen südafrikanischen 
 Szene und beschäftigt sich mit den präkolonialen Ur-Ideen afrikanischer Mu
 sik und ihrer heilenden Wirkung. Im April 2022 erschien sein 2. Album bei 
 BlueNote. Dass er trotzdem auf ihrer Album-Releasetour im Mai 2022 live da
 bei sein wird\, zeigt seine starke Verbundenheit mit «Noumuso». Auf der ko
 mmenden Tour werden nebst einigen Albumsongs auch neue\, vocal-lastigere S
 ongs gespielt. Das Aufeinandertreffen des Kora-Virtuosen Cissokho und Pian
 o-Superstar Makhathini und die starke Rhythm-Section verspricht ein Konzer
 terlebnis der Extraklasse.\nLine Up Tour Mai 2022: Sadio Cissokho (Senegal
 ) - Kora &amp\; MainVocals EmaNuel (CH) - Drums\, Cymbals\, Pad (MD) Yamou
 ssa Sylla (Guinea) - Percussion\, Backing Vocals David Mäder (CH/Italy) - 
 E-Bass with Nududuzo Makhathini - Grandpiano\, Fender Rhodes &amp\; Synth 
 www.noumuso.comhttps://www.bluenote.com/artist/nduduzo-makhathini/
DTSTART:20220517T181500Z
DTEND:20220517T181500Z
GEO:00;0
LOCATION:
ORGANIZER:
SEQUENCE:1
SUMMARY:Noumuso feat. Nduduzo Makhathini
TRANSP:OPAQUE
URL:https://www.esse.bar/index.php/veranstaltungen/vergangene-veranstaltung
 en/1610-noumuso-feat-nduduzo-makhathini/2022-05-17-20-15
END:VEVENT
END:VCALENDAR
