BEGIN:VCALENDAR
VERSION:2.0
PRODID:-//ESSE Musicbar Winterthur//NONSGML kigkonsult.se iCalcreator 2.41.92//
CALSCALE:GREGORIAN
METHOD:PUBLISH
UID:32366533-3036-4264-b031-336264313735
X-WR-CALNAME:iCagenda
X-WR-CALDESC:Event Management Extension for Joomla!
X-WR-RELCALID:3E26604A-50F4-4449-8B3E-E4F4932D05B5
X-WR-TIMEZONE:Europe/Zurich
BEGIN:VTIMEZONE
TZID:Europe/Zurich
TZUNTIL:20240331T010000Z
BEGIN:STANDARD
TZNAME:CET
DTSTART:20211031T030000
TZOFFSETFROM:+0200
TZOFFSETTO:+0100
RDATE:20221030T030000
RDATE:20231029T030000
END:STANDARD
BEGIN:DAYLIGHT
TZNAME:CEST
DTSTART:20220327T020000
TZOFFSETFROM:+0100
TZOFFSETTO:+0200
RDATE:20230326T020000
END:DAYLIGHT
END:VTIMEZONE
BEGIN:VEVENT
UID:30353961-3164-4333-b662-333333346133
DTSTAMP:20260419T225551Z
CATEGORIES:Folk & More
CLASS:PUBLIC
DESCRIPTION;ALTREP="CID:<FFFF__=0ABBE548DFE235B58f9e8a93d@coffeebean.com>":
 Eine Band ohne Gitarre oder Piano? Geht das? Jaaa\, das geht\, sogar sehr 
 gut! Der mehrstimmige Gesang zusammen mit groovigen Basslinien und gekonnt
  eingesetzter Hand- und Fussperkussion verleihen den eingängig geschrieben
 en Songs den nötigen Drive und bringt das Publikum zum Mitwippen und -schn
 ippen… und nichts fehlt.\nStilistisch bewegt sich die Band von Pop über So
 ul und Jazz bis zu folkigen Klängen.\nVideo-Trailer:https://www.youtube.co
 m/watch?v=Yk9ITo7y_sM\nMusikerInnen:Eva Pearlman - Lead &amp\; Backing Voc
 alsoben\, unten\, hinten\, vorne\, metallisch\, hauchig - eine Stimme kann
  überall und alles sein.Das ist Evas Faszination &amp\; Passion – als Säng
 erin bei RubyGEM kann sie ihre stimmliche Vielfalt in fast allen Varianten
  zum Ausdruck bringen.\nMaja Oezmen - Lead &amp\; Backing VocalsDie Verbin
 dung von dreistimmigem Chorgesang und solistischen Parts entspricht Maja s
 ehr. Sie betätigt sich zudem gerne perkussiv oder bereichert den Triosound
  von RubyGEM mit verschmitzten Ukulelenklängen.\nGeri Zumbrunn - Kontrabas
 s\, Backing VocalsBei RubyGEM kommen Geris drei musikalische Vorlieben vol
 l zum Zug: starke Basslinien\, Close-Harmony-Gesang und Rhythmus. Dann ist
  er noch Hahn im Korb – was will Mann mehr?
DTSTART:20220612T173000Z
DTEND:20220612T173000Z
GEO:00;0
LOCATION:
ORGANIZER:
SEQUENCE:1
SUMMARY:RubyGEM
TRANSP:OPAQUE
URL:https://www.esse.bar/index.php/veranstaltungen/vergangene-veranstaltung
 en/1611-rubygem/2022-06-12-19-30
END:VEVENT
END:VCALENDAR
