BEGIN:VCALENDAR
VERSION:2.0
PRODID:-//ESSE Musicbar Winterthur//NONSGML kigkonsult.se iCalcreator 2.41.92//
CALSCALE:GREGORIAN
METHOD:PUBLISH
UID:61346234-3831-4331-b464-353731313131
X-WR-CALNAME:iCagenda
X-WR-CALDESC:Event Management Extension for Joomla!
X-WR-RELCALID:3E26604A-50F4-4449-8B3E-E4F4932D05B5
X-WR-TIMEZONE:Europe/Zurich
BEGIN:VTIMEZONE
TZID:Europe/Zurich
TZUNTIL:20240331T010000Z
BEGIN:STANDARD
TZNAME:CET
DTSTART:20211031T030000
TZOFFSETFROM:+0200
TZOFFSETTO:+0100
RDATE:20221030T030000
RDATE:20231029T030000
END:STANDARD
BEGIN:DAYLIGHT
TZNAME:CEST
DTSTART:20220327T020000
TZOFFSETFROM:+0100
TZOFFSETTO:+0200
RDATE:20230326T020000
END:DAYLIGHT
END:VTIMEZONE
BEGIN:VEVENT
UID:31386631-3163-4038-b631-366562383864
DTSTAMP:20260419T231221Z
CATEGORIES:Jazz
CLASS:PUBLIC
DESCRIPTION;ALTREP="CID:<FFFF__=0ABBE548DFE235B58f9e8a93d@coffeebean.com>":
 Die Musiker des Jochro-Trios leben ihre Leidenschaft für groovigen und tan
 zbaren Instrumental-Jazz. Sie verbinden moderne Stilmittel des Jazz mit So
 ul und definieren so ihren ganz persönlichen 'Soul-Jazz'.\nDas Jochro-Trio
  komponiert eigene Songs\, mixt alte Jazzklassiker mit Neuinterpretationen
  und verjazzt auch mal Popsongs. Immer darauf bedacht\, dass der Sound hör
 - und verstehbar bleibt.\nFabian Jochro (p\, rhodes)\, Thomas Brühwiler (b
 )\, Corsin Hobi (dr)\nhttps://jochro-trio.ch
DTSTART:20220616T181500Z
DTEND:20220616T181500Z
GEO:00;0
LOCATION:
ORGANIZER:
SEQUENCE:1
SUMMARY:Jochro-Trio – Soul-Jazz
TRANSP:OPAQUE
URL:https://www.esse.bar/index.php/veranstaltungen/vergangene-veranstaltung
 en/1612-jochro-trio-soul-jazz/2022-06-16-20-15
END:VEVENT
END:VCALENDAR
