BEGIN:VCALENDAR
VERSION:2.0
PRODID:-//ESSE Musicbar Winterthur//NONSGML kigkonsult.se iCalcreator 2.41.92//
CALSCALE:GREGORIAN
METHOD:PUBLISH
UID:30303639-3338-4536-b732-653864373337
X-WR-CALNAME:iCagenda
X-WR-CALDESC:Event Management Extension for Joomla!
X-WR-RELCALID:3E26604A-50F4-4449-8B3E-E4F4932D05B5
X-WR-TIMEZONE:Europe/Zurich
BEGIN:VTIMEZONE
TZID:Europe/Zurich
TZUNTIL:20240331T010000Z
BEGIN:STANDARD
TZNAME:CET
DTSTART:20211031T030000
TZOFFSETFROM:+0200
TZOFFSETTO:+0100
RDATE:20221030T030000
RDATE:20231029T030000
END:STANDARD
BEGIN:DAYLIGHT
TZNAME:CEST
DTSTART:20220327T020000
TZOFFSETFROM:+0100
TZOFFSETTO:+0200
RDATE:20230326T020000
END:DAYLIGHT
END:VTIMEZONE
BEGIN:VEVENT
UID:35613831-3732-4239-b532-656662616165
DTSTAMP:20260419T231420Z
CATEGORIES:Jazz
CLASS:PUBLIC
DESCRIPTION;ALTREP="CID:<FFFF__=0ABBE548DFE235B58f9e8a93d@coffeebean.com>":
 Die bekannten ukrainischen Musikerinnen Laura Marti und Nataliya Lebedeva 
 sind ein eingespieltes Team. Die Sängerin\, Komponistin und Songschreiberi
 n Laura Marti ist im Jazz genauso zu Hause wie in Ethno\, Rock und Pop. Si
 e ist eine stolze Ukrainerin mit armenischen Wurzeln und einem brasilianis
 chen Herzen. In der Ukraine gilt sie mit ihrer charakteristischen\, samtig
 en Stimme als eine der vielseitigsten Sängerinnen.\nAls Sängerin hat sie a
 uch mit zahlreichen renommierten internationalen JazzmusikerInnen zusammen
 gearbeitet. Zu ihnen zählen Bobby McFerrin\, Lars Danielsson\, Magnus Östr
 öm\, Michiel Borstlap\, Hans Peter Salentin\, Misha Tsiganov\, Vadim Nesel
 ovskyi und Tamara Lukasheva. Laura Marti hat 5 Studioalben veröffentlicht\
 , auf zwei weiteren Alben als Featured Artist mitgewirkt und eine beträcht
 liche Anzahl von Singles produziert. Neben ihren Jazz- und Pop-Projekten i
 st Laura Mitglied des Nataliya Lebedeva Trio und der 'Jazz in Kiev Band' u
 nter der Leitung von Alexey Kogan.\nLaura Martis Live-Auftritte sind immer
  eine konzentrierte Mischung aus Emotionen\, kraftvoller Energie\, Inspira
 tion\, Liebe\, 100% hochwertigem Material und ukrainischer Sensibilität.\n
 Nataliya Lebedeva ist eine bekannte ukrainische Jazzpianistin\, Komponisti
 n\, Arrangeurin und Bandleaderin. Sie hat eine Vielzahl von originellen Ja
 zzprojekten\, zum Teil mit prominenten ukrainischen MusikerInnen.\nNataliy
 a unterrichtet an der R. Glier Musikakademie in Kiev. Sie ist schon in Pol
 en\, der Slowakei\, Österreich\, Grossbritannien\, den USA\, Argentinien\,
  Paraguay und jetzt hier in der Schweiz aufgetreten. Ihre Musik\, teilweis
 e technisch anspruchsvoll und experimentell\, spiegelt verschiedene emotio
 nale Nuancen wider\, mit denen sie das Publikum begeistert.\nLaura Ashotiv
 na Martirosyan aka Laura Marti (voc\, comp)\, Nataliya Lebedeva (p\, comp)
 \nhttp://lauramartimusic.com
DTSTART:20220602T181500Z
DTEND:20220602T181500Z
GEO:00;0
LOCATION:
ORGANIZER:
SEQUENCE:1
SUMMARY:Jazz aus der Ukraine: Laura Marti & Nataliya Lebedeva Duo
TRANSP:OPAQUE
URL:https://www.esse.bar/index.php/veranstaltungen/vergangene-veranstaltung
 en/1614-jazz-aus-der-ukraine-laura-marti-nataliya-lebedeva-duo/2022-06-02-
 20-15
END:VEVENT
END:VCALENDAR
