BEGIN:VCALENDAR
VERSION:2.0
PRODID:-//ESSE Musicbar Winterthur//NONSGML kigkonsult.se iCalcreator 2.41.92//
CALSCALE:GREGORIAN
METHOD:PUBLISH
UID:61383135-6135-4233-a630-653035333866
X-WR-CALNAME:iCagenda
X-WR-CALDESC:Event Management Extension for Joomla!
X-WR-RELCALID:3E26604A-50F4-4449-8B3E-E4F4932D05B5
X-WR-TIMEZONE:Europe/Zurich
BEGIN:VTIMEZONE
TZID:Europe/Zurich
TZUNTIL:20240331T010000Z
BEGIN:STANDARD
TZNAME:CET
DTSTART:20211031T030000
TZOFFSETFROM:+0200
TZOFFSETTO:+0100
RDATE:20221030T030000
RDATE:20231029T030000
END:STANDARD
BEGIN:DAYLIGHT
TZNAME:CEST
DTSTART:20220327T020000
TZOFFSETFROM:+0100
TZOFFSETTO:+0200
RDATE:20230326T020000
END:DAYLIGHT
END:VTIMEZONE
BEGIN:VEVENT
UID:63336639-6231-4362-b434-363032643536
DTSTAMP:20260419T212949Z
CATEGORIES:young people on stage
CLASS:PUBLIC
DESCRIPTION;ALTREP="CID:<FFFF__=0ABBE548DFE235B58f9e8a93d@coffeebean.com>":
 Bands des Förderprogramms und des Pre-Colleges\nJung und frisch: die 3 Ban
 ds des Pop/Jazz-Bereichs vom Konservatorium Winterthur (Pre-College\, Förd
 erprogramm\, FMS Profil Musik) konzertieren zum Abschluss des Schuljahres 
 in den heiligen Jazzhallen der Esse Musicbar. Geniessen wir einen groovige
 n Abend mit den Hepcats\, Boosters und Conservators.\nSeit mehreren Jahrze
 hnten ist das Konservatorium Winterthur in der breiten musikalischen Ausbi
 ldung von Kindern und Jugendlichen aktiv und auch in der Studienvorbereitu
 ng. Schon hunderte junge Musikerinnen und Musiker haben aus dem Vorstudium
 /Pre-College des Konservatoriums Winterthur den Sprung an Musikhochschulen
  im In- und Ausland geschafft.\nMitwirkende:\n«Hepcats» (Leitung Raffaele 
 Lunardi): Valerie Hadorn\, Carlotta Fahrni\, Yeshe Adotsang\, Liam Seillie
 r\, Robin Lor\n«Boosters» (Leitung Tobias Hunziker): Mathea Oberholzer\, Y
 eshe Adotsang\, Laura Schäfer\, Amos Roth\n«Conservators» (Leitung Carlo F
 ilaferro): Miriam Makia\, Vianne Arndt\, Noah Amato\, Noé Savio\, Deron Ku
 rtcuoglu
DTSTART:20220627T173000Z
DTEND:20220627T173000Z
GEO:00;0
LOCATION:
ORGANIZER:
SEQUENCE:1
SUMMARY:Konsi-Bands Winterthur #1
TRANSP:OPAQUE
URL:https://www.esse.bar/index.php/veranstaltungen/vergangene-veranstaltung
 en/1618-konsi-bands-winterthur-1/2022-06-27-19-30
END:VEVENT
END:VCALENDAR
