BEGIN:VCALENDAR
VERSION:2.0
PRODID:-//ESSE Musicbar Winterthur//NONSGML kigkonsult.se iCalcreator 2.41.92//
CALSCALE:GREGORIAN
METHOD:PUBLISH
UID:32396331-3230-4138-b064-656331653539
X-WR-CALNAME:iCagenda
X-WR-CALDESC:Event Management Extension for Joomla!
X-WR-RELCALID:3E26604A-50F4-4449-8B3E-E4F4932D05B5
X-WR-TIMEZONE:Europe/Zurich
BEGIN:VTIMEZONE
TZID:Europe/Zurich
TZUNTIL:20240331T010000Z
BEGIN:STANDARD
TZNAME:CET
DTSTART:20211031T030000
TZOFFSETFROM:+0200
TZOFFSETTO:+0100
RDATE:20221030T030000
RDATE:20231029T030000
END:STANDARD
BEGIN:DAYLIGHT
TZNAME:CEST
DTSTART:20220327T020000
TZOFFSETFROM:+0100
TZOFFSETTO:+0200
RDATE:20230326T020000
END:DAYLIGHT
END:VTIMEZONE
BEGIN:VEVENT
UID:35653434-3336-4433-a465-643130366632
DTSTAMP:20260419T213422Z
CATEGORIES:Blues
CLASS:PUBLIC
DESCRIPTION;ALTREP="CID:<FFFF__=0ABBE548DFE235B58f9e8a93d@coffeebean.com>":
 Die «Mojo Monkeys» müssen den ESSE Besucher:innen wohl kaum mehr vorgestel
 lt werden. Noch in der alten Lokalität hinter dem Bahnhof hat sich das Tri
 o aus Los Angeles seit 2016 mit drei gefeierten Konzerten bestens etablier
 t. Ein für März 2020 geplantes Konzert auf der neuen Bühne musste dann aus
  bekannten Gründen leider abgesagt werden.\nJetzt kehrt die Band von David
  Raven (Lead-Singer\, Songwriter/Standup Schlagzeug) endlich für eine kurz
 e Tour in die Schweiz zurück\, wenn auch in leicht veränderter Besetzung (
 so muss der Gitarrist Billy Watts aus gesundheitlichen Gründen in der USA 
 bleiben). Als Ersatz amtet der bestens bekannte Mike Bischof.\nDer Sound d
 er «Mojo Monkeys» hat tiefe Wurzeln in der Americana-Musik. Dabei bieten d
 ie drei Herren bestes musikalisches Handwerk\, zusammengesetzt aus tanzbar
 er\, humorvoller Musik aus dem Süden der USA. Soulig\, rockig\, bluesig\, 
 sozusagen 'Swamp-Country-Rock'. Ausgesuchte Klänge &amp\; Rhythmen die der
  Seele gut tun und gleichzeitig mächtig in die Beine gehen.\nDavid Raven (
 lead vocals\, stand-up drums)\, Mike Bischof (electric guitar\, backing vo
 cals)\, Lorenzo Wilson (bass\, backing vocals)\nhttp://mojomonkeys.com/\nV
 ideos:\n'Get Gone' - https://youtu.be/qph5EZ7eY9k - in Little Big Beat Stu
 dios\, Eschen\, Liechtenstein.’Sloughfoot Willie/Circuit Rider’ - https://
 youtu.be/R8eo7RlHfrE - in Little Big Beat Studios\, Eschen\, Liechtenstein
 .’Two Shots’ - https://youtu.be/QpKqEPA6284
DTSTART:20220626T173000Z
DTEND:20220626T173000Z
GEO:00;0
LOCATION:
ORGANIZER:
SEQUENCE:1
SUMMARY:The Mojo Monkeys
TRANSP:OPAQUE
URL:https://www.esse.bar/index.php/veranstaltungen/vergangene-veranstaltung
 en/1619-the-mojo-monkeys-3/2022-06-26-19-30
END:VEVENT
END:VCALENDAR
