BEGIN:VCALENDAR
VERSION:2.0
PRODID:-//ESSE Musicbar Winterthur//NONSGML kigkonsult.se iCalcreator 2.41.92//
CALSCALE:GREGORIAN
METHOD:PUBLISH
UID:31383030-3162-4836-b266-376266306165
X-WR-CALNAME:iCagenda
X-WR-CALDESC:Event Management Extension for Joomla!
X-WR-RELCALID:3E26604A-50F4-4449-8B3E-E4F4932D05B5
X-WR-TIMEZONE:Europe/Zurich
BEGIN:VTIMEZONE
TZID:Europe/Zurich
TZUNTIL:20240331T010000Z
BEGIN:STANDARD
TZNAME:CET
DTSTART:20211031T030000
TZOFFSETFROM:+0200
TZOFFSETTO:+0100
RDATE:20221030T030000
RDATE:20231029T030000
END:STANDARD
BEGIN:DAYLIGHT
TZNAME:CEST
DTSTART:20220327T020000
TZOFFSETFROM:+0100
TZOFFSETTO:+0200
RDATE:20230326T020000
END:DAYLIGHT
END:VTIMEZONE
BEGIN:VEVENT
UID:30396464-3834-4263-b164-343462643938
DTSTAMP:20260419T214629Z
CATEGORIES:Jazz
CLASS:PUBLIC
DESCRIPTION;ALTREP="CID:<FFFF__=0ABBE548DFE235B58f9e8a93d@coffeebean.com>":
 Das Duo «Planet ZIZA» bestehend aus David Soyza (Vibraphon\, Komposition) 
 und Elias Menzi (Hackbrett\, Komposition) entstand im Sommer 2020. Während
  der Pandemie vertieften die beiden Musiker ihre Zusammenarbeit und erfors
 chten dieklanglichen Möglichkeiten dieser ganz besonderen Instrumentenkons
 tellation. Im Frühling 2021 gab es die ersten Konzerte in Österreich und d
 er Schweiz.\nEgal ob man es Realtime Composition oder Frei Improvisierte M
 usik nennen möchte\, dieses Ensemble vertont den Moment. Im Fokus steht EC
 HTHEIT. Diese kann schön und aufwühlend\, froh und traurig sein. Die beide
 n virtuosen Musiker verbindet die Freude am Erforschen. Dabei entstehen so
 wohl Eigenkompositionen als auch sehr ausdrucksstarke Improvisationen. «Pl
 anet ZIZA» heisst: “Zwei Menschen kommen zusammen und kommunizieren.” Dadu
 rch ist jedes Konzert einzigartig.\nDavid Soyza (Vibraphon\, Komposition)\
 , Elias Menzi (Hackbrett\, Komposition)\nhttps://www.davidsoyza.com/ziza/h
 ttps://www.eliasmenzi.ch
DTSTART:20220630T181500Z
DTEND:20220630T181500Z
GEO:00;0
LOCATION:
ORGANIZER:
SEQUENCE:1
SUMMARY:Planet ZIZA – David Soyza & Elias Menzi
TRANSP:OPAQUE
URL:https://www.esse.bar/index.php/veranstaltungen/vergangene-veranstaltung
 en/1620-planet-ziza-david-soyza-elias-menzi/2022-06-30-20-15
END:VEVENT
END:VCALENDAR
