BEGIN:VCALENDAR
VERSION:2.0
PRODID:-//ESSE Musicbar Winterthur//NONSGML kigkonsult.se iCalcreator 2.41.92//
CALSCALE:GREGORIAN
METHOD:PUBLISH
UID:35646463-3062-4732-a465-656566343130
X-WR-CALNAME:iCagenda
X-WR-CALDESC:Event Management Extension for Joomla!
X-WR-RELCALID:3E26604A-50F4-4449-8B3E-E4F4932D05B5
X-WR-TIMEZONE:Europe/Zurich
BEGIN:VTIMEZONE
TZID:Europe/Zurich
TZUNTIL:20240331T010000Z
BEGIN:STANDARD
TZNAME:CET
DTSTART:20211031T030000
TZOFFSETFROM:+0200
TZOFFSETTO:+0100
RDATE:20221030T030000
RDATE:20231029T030000
END:STANDARD
BEGIN:DAYLIGHT
TZNAME:CEST
DTSTART:20220327T020000
TZOFFSETFROM:+0100
TZOFFSETTO:+0200
RDATE:20230326T020000
END:DAYLIGHT
END:VTIMEZONE
BEGIN:VEVENT
UID:34636630-3561-4130-a237-623262623432
DTSTAMP:20260419T214450Z
CATEGORIES:Blues
CLASS:PUBLIC
DESCRIPTION;ALTREP="CID:<FFFF__=0ABBE548DFE235B58f9e8a93d@coffeebean.com>":
 Eigentlich wären für diesen Abend Vince Benedetti und Birgit Hauser angesa
 gt gewesen. Eine aggressive Grippe hat der Stimme von Birgit jedoch so zug
 esetzt\, dass das Konzert auf den Herbst verschoben werden muss.\nAls Ersa
 tz amten «Mr. Pure Blues &amp\; Mr. JB» und eröffnen damit die anstehende 
 Blueswoche. Hinter diesen Namen stecken die beiden Musiker Guscht Schmidt 
 (Gitarren\, Gesang)\, ein Urgestein der Schweizer Bluesszene und Jochen Br
 aun (Gitarre\, Dobro\, Mandoline\, Ukulele und Lap Steel)\, der seit Jahre
 n vor allem im süddeutschen und Schweizer Raum mit verschiedenen Formation
 en auf Tour ist. Im Sommer 2018 haben sich die beiden zusammengetan\, und 
 ihr grenzüberschreitendes Blues-Duo der Extraklasse aus der Taufe gehoben.
 \n«Mr. Pure Blues»\, dessen Gesang und Gitarrenspiel irgendwo zwischen den
  Grooves eines John Lee Hooker und Big Bill Broonzy zu einzuordnen ist\, b
 ildet dabei die traditionelle Seite der Formation. Dem gegenüber stehen di
 e ausgefallenen Instrumentierungen mit Mandoline\, Ukulele und Lap Steel\,
  die «Mr. JB» in die Arrangements einfliessen lässt\, und die selbst altge
 dienten Blues-Klassikern einen frischen und neuen Sound einhauchen.\nDer A
 uftritt in der ESSE bietet auch gleich die Première ihres neuen Programms\
 , welches komplett akustisch vonstatten geht. Für Blues-Roots und American
 a-Fans ein absolutes Muss.\nMr. Pure Blues (g\, voc)\, Mr. JB (mand\, uku\
 , g\, voc)\nhttps://mr-pure-blues.comhttp://rw-bluesbuero.de
DTSTART:20220623T181500Z
DTEND:20220623T181500Z
GEO:00;0
LOCATION:
ORGANIZER:
SEQUENCE:1
SUMMARY:Mr. Pure Blues & Mr. JB – Acoustic Blues
TRANSP:OPAQUE
URL:https://www.esse.bar/index.php/veranstaltungen/vergangene-veranstaltung
 en/1621-mr-pure-blues-mr-jb-acoustic-blues/2022-06-23-20-15
END:VEVENT
END:VCALENDAR
