BEGIN:VCALENDAR
VERSION:2.0
PRODID:-//ESSE Musicbar Winterthur//NONSGML kigkonsult.se iCalcreator 2.41.92//
CALSCALE:GREGORIAN
METHOD:PUBLISH
UID:39323365-6465-4435-b033-393230393434
X-WR-CALNAME:iCagenda
X-WR-CALDESC:Event Management Extension for Joomla!
X-WR-RELCALID:3E26604A-50F4-4449-8B3E-E4F4932D05B5
X-WR-TIMEZONE:Europe/Zurich
BEGIN:VTIMEZONE
TZID:Europe/Zurich
TZUNTIL:20240331T010000Z
BEGIN:STANDARD
TZNAME:CET
DTSTART:20211031T030000
TZOFFSETFROM:+0200
TZOFFSETTO:+0100
RDATE:20221030T030000
RDATE:20231029T030000
END:STANDARD
BEGIN:DAYLIGHT
TZNAME:CEST
DTSTART:20220327T020000
TZOFFSETFROM:+0100
TZOFFSETTO:+0200
RDATE:20230326T020000
END:DAYLIGHT
END:VTIMEZONE
BEGIN:VEVENT
UID:65663535-3334-4661-a330-336264306236
DTSTAMP:20260419T213310Z
CATEGORIES:Folk & More
CLASS:PUBLIC
DESCRIPTION;ALTREP="CID:<FFFF__=0ABBE548DFE235B58f9e8a93d@coffeebean.com>":
 NeoSoul Quartett – beseelte Musik aus Zürich\nAlles begann in Valencia. Nu
 n\, eigentlich war es kein Anfang\, sondern eine Fortsetzung. Irgendwo in 
 einem kleinen Café sass eine Sängerin mit Kopfhörern\, eingenommen von smo
 othen Rhythm'n'Blues-Sounds und tiefen Soul-Grooves\, als jener Mensch auf
 tauchte\, der bereits in der Vergangenheit mit seinen Rhodes-Klängen ein F
 undament für ihren Gesang gelegt hatte. Stunden später\, es war schon dunk
 el\, sassen sie immer noch da und teilten ihre Lieblingssongs\, während si
 ch ihre Körper zum Rhythmus bewegten. Zauberhaft - Drunk with Soul. Eigent
 lich sollten die beiden gemeinsam etwas starten... nur so ein Gedanke.\nZw
 ei Tage später erhielt sie eine Postkarte. Darauf eine alte Flasche mit Bü
 gelverschluss auf der “bottled soul” stand. Und darunter die Zeilen: „Wir 
 sollten das Ding tatsächlich starten!“ Ein Versprechen. Fast eine Verpflic
 htung. Und später zu Hause\, landet die Nachricht des Perkussionisten in d
 er Inbox. Betreff: Ich bin's. - Er war’s. Und etwas später - da haben kam 
 Boden dazu. Mit Bass. Und damit war «Soul Potion» schlicht komplettiert.\n
 Willkommen - irgendwo in diesem zauberhaften Soul\, wo die Welt für eine W
 eile grad sehr in Ordnung ist.\nDamaris Reist (voc)\, Michael Arzt (keyb)\
 , Benjamin Kissola Gonçalves (b)\, Jost Müller (perc\, dr)\nwww.soulpotion
 .ch/
DTSTART:20220902T181500Z
DTEND:20220902T181500Z
GEO:00;0
LOCATION:
ORGANIZER:
SEQUENCE:1
SUMMARY:SOUL POTION
TRANSP:OPAQUE
URL:https://www.esse.bar/index.php/veranstaltungen/vergangene-veranstaltung
 en/1622-soul-potion-2/2022-09-02-20-15
END:VEVENT
END:VCALENDAR
