BEGIN:VCALENDAR
VERSION:2.0
PRODID:-//ESSE Musicbar Winterthur//NONSGML kigkonsult.se iCalcreator 2.41.92//
CALSCALE:GREGORIAN
METHOD:PUBLISH
UID:38313134-3730-4432-b335-336265346663
X-WR-CALNAME:iCagenda
X-WR-CALDESC:Event Management Extension for Joomla!
X-WR-RELCALID:3E26604A-50F4-4449-8B3E-E4F4932D05B5
X-WR-TIMEZONE:Europe/Zurich
BEGIN:VTIMEZONE
TZID:Europe/Zurich
TZUNTIL:20240331T010000Z
BEGIN:STANDARD
TZNAME:CET
DTSTART:20211031T030000
TZOFFSETFROM:+0200
TZOFFSETTO:+0100
RDATE:20221030T030000
RDATE:20231029T030000
END:STANDARD
BEGIN:DAYLIGHT
TZNAME:CEST
DTSTART:20220327T020000
TZOFFSETFROM:+0100
TZOFFSETTO:+0200
RDATE:20230326T020000
END:DAYLIGHT
END:VTIMEZONE
BEGIN:VEVENT
UID:64396234-3833-4135-a132-666266323561
DTSTAMP:20260419T212912Z
CATEGORIES:Sommerloch
CLASS:PUBLIC
DESCRIPTION;ALTREP="CID:<FFFF__=0ABBE548DFE235B58f9e8a93d@coffeebean.com>":
 Ungeheuer kreativ und auch noch enorm fleissig ist Attila Vural seit Jahre
 n – aber man kann nicht unbedingt behaupten\, dass seine Musik sich stets 
 an Schönklang und Mainstream orientiert. Wenn er mit dem Klarinettisten Is
 am Shéhade zusammen spielt\, dann erwartet man insofern auch eine recht fr
 eie\, streckenweise vielleicht gar richtig wilde Session und liegt damit a
 ber ziemlich daneben.\nEin jazzig angehauchter Groove steht hier fast über
 all im Mittelpunkt. Freilich ist das keineswegs die Sorte Jazz\, die nach 
 gehobenen Getränken in eleganten Cocktail-Bars klingt\, sondern nach eben 
 jenem erdigen Drive\, den Vurals Gitarrenspiel schon immer auszeichnet hat
 . Für die Kombination Gitarre Klarinette können selbst erfahrene Musikfans
  keine Beispiele als Vorbild erwähnen\, so dass die Fachpresse bereits bei
 m ihrem ersten gemeinsamen Album 'It Might As Well Be A Movie' (2012) schr
 ieb\, dass die Musik dieses aussergewöhnlichen Duos frisch\, ungekünstelt 
 und kraftvoll klingt.\nBei ihren aktuellen Auftritten stellen sie ihr noch
  unveröffentlichtes drittes Album «The Third Act» vor.\nAttila Vural (g)\,
  Isam Shéhade (cl\, bcl\, ss)\nwww.lavural.chwww.isam-shehade.ch
DTSTART:20220804T181500Z
DTEND:20220804T181500Z
GEO:00;0
LOCATION:
ORGANIZER:
SEQUENCE:1
SUMMARY:Attila Vural & Isam Shéhade – «The Third Act»
TRANSP:OPAQUE
URL:https://www.esse.bar/index.php/veranstaltungen/vergangene-veranstaltung
 en/1625-1402-attila-vural-isam-shehade-2/2022-08-04-20-15
END:VEVENT
END:VCALENDAR
