BEGIN:VCALENDAR
VERSION:2.0
PRODID:-//ESSE Musicbar Winterthur//NONSGML kigkonsult.se iCalcreator 2.41.92//
CALSCALE:GREGORIAN
METHOD:PUBLISH
UID:64613762-3832-4439-b562-346430376232
X-WR-CALNAME:iCagenda
X-WR-CALDESC:Event Management Extension for Joomla!
X-WR-RELCALID:3E26604A-50F4-4449-8B3E-E4F4932D05B5
X-WR-TIMEZONE:Europe/Zurich
BEGIN:VTIMEZONE
TZID:Europe/Zurich
TZUNTIL:20240331T010000Z
BEGIN:STANDARD
TZNAME:CET
DTSTART:20211031T030000
TZOFFSETFROM:+0200
TZOFFSETTO:+0100
RDATE:20221030T030000
RDATE:20231029T030000
END:STANDARD
BEGIN:DAYLIGHT
TZNAME:CEST
DTSTART:20220327T020000
TZOFFSETFROM:+0100
TZOFFSETTO:+0200
RDATE:20230326T020000
END:DAYLIGHT
END:VTIMEZONE
BEGIN:VEVENT
UID:33393566-6633-4437-b834-346338383661
DTSTAMP:20260419T212508Z
CATEGORIES:Sommerloch
CLASS:PUBLIC
DESCRIPTION;ALTREP="CID:<FFFF__=0ABBE548DFE235B58f9e8a93d@coffeebean.com>":
 Das Jazztrio «SchärerBommerGrundbacher» präsentiert Songs aus der Musica P
 opular Brasileira (MPB)\, wunderbare Bossas und Sambas sowie Boleros und w
 eitere ausgewählte Musik aus Südamerika.\nRuth Bommer\, Gesang\, Gitarre u
 nd Komposition Mit ihrer ausdrucksstarken Stimme berührt sie\, indem sie E
 rlebtes ungeheuer gefühlsvoll in die Songs einfliessen lässt und die Zuhör
 erInnen in wunderbare musikalische Welten führt.\nMartin Schärer\, Gitarre
 \, Trompete\, Gesang und Komposition Sein versiertes Gitarrenspiel erzeugt
  den musikalischen Boden\, seine Improvisationen klingen wie frische Farbt
 upfer und streuen manchmal assoziative Überraschungen ein. Reto Grundbache
 r\, Kontrabass\, PosauneReto Grundbacher ist ein äusserst vielseitiger All
 roundmusiker. Mit seinem swingenden Spiel unterstützt er die Band hervorra
 gend und produziert den warmen Boden.\nhttps://www.schaererbommer.ch\nReto
  Grundbacher:http://www.jumping-notes.ch/default.php\n\nPressebild aus der
  alten ESSE Musicbar am Bahnhof Winterthur (Cheminée-Zimmer). Rechts die n
 amensgebenden Esse!
DTSTART:20220818T181500Z
DTEND:20220818T181500Z
GEO:00;0
LOCATION:
ORGANIZER:
SEQUENCE:1
SUMMARY:SchärerBommerGrundbacher – «Coisas mais lindas»
TRANSP:OPAQUE
URL:https://www.esse.bar/index.php/veranstaltungen/vergangene-veranstaltung
 en/1626-sommerloch-programm-2/2022-08-18-20-15
END:VEVENT
END:VCALENDAR
