BEGIN:VCALENDAR
VERSION:2.0
PRODID:-//ESSE Musicbar Winterthur//NONSGML kigkonsult.se iCalcreator 2.41.92//
CALSCALE:GREGORIAN
METHOD:PUBLISH
UID:62653739-6366-4164-b365-396366646337
X-WR-CALNAME:iCagenda
X-WR-CALDESC:Event Management Extension for Joomla!
X-WR-RELCALID:3E26604A-50F4-4449-8B3E-E4F4932D05B5
X-WR-TIMEZONE:Europe/Zurich
BEGIN:VTIMEZONE
TZID:Europe/Zurich
TZUNTIL:20240331T010000Z
BEGIN:STANDARD
TZNAME:CET
DTSTART:20211031T030000
TZOFFSETFROM:+0200
TZOFFSETTO:+0100
RDATE:20221030T030000
RDATE:20231029T030000
END:STANDARD
BEGIN:DAYLIGHT
TZNAME:CEST
DTSTART:20220327T020000
TZOFFSETFROM:+0100
TZOFFSETTO:+0200
RDATE:20230326T020000
END:DAYLIGHT
END:VTIMEZONE
BEGIN:VEVENT
UID:62653836-6631-4933-b262-356433303335
DTSTAMP:20260419T211859Z
CATEGORIES:Sommerloch
CLASS:PUBLIC
DESCRIPTION;ALTREP="CID:<FFFF__=0ABBE548DFE235B58f9e8a93d@coffeebean.com>":
 Dem Tango und der Folklore verschrieben\, lässt dieses Duo den Puls jenes 
 Buenos Aires aus Zeiten Carlos Gardels oder Aníbal Troilos erleben\, der i
 hr den Namen ciudad de la furia verlieh. – Könnte man meinen\, doch damit 
 ist noch lange nicht alles erzählt.\nDas eher gegensätzliche Gepäck an Erf
 ahrungen und savoir vivre\, welches die beiden Musiker auf ihrem Weg mitbe
 kommen haben\, lässt ihre Musik nicht unberührt. Hillebrands Klarinettensp
 iel wurzelt in der forschenden\, kühlen Ästhetik des europäischen Jazz und
  ist von der Klassik und jüdischem Klezmer beeinflusst\, während Alvarez’ 
 Muse der Tango und die Lateinamerikanische Folklore ist.\nDie wachsende Ve
 rbindung des Schweizer Klarinettisten Philipp Hillebrand zu Argentiniens H
 auptstadt trägt unlängst Früchte verschiedenen Geschmacks. Neben seinem Mi
 twirken im Quintett der Sängerin Luciana Morelli beherbergte er regelmässi
 g argentinische Musiker auf der Durchreise und spielte diverse Gastspiele 
 in der Schweiz wie auch in Übersee.\nPhilipp Hillebrand (cl\, bcl)\, Maxi 
 Alvarez (p)\nhttps://philipphillebrand.com
DTSTART:20220811T181500Z
DTEND:20220811T181500Z
GEO:00;0
LOCATION:
ORGANIZER:
SEQUENCE:1
SUMMARY:Duo Alvarez – Hillebrand – «La Golondrina»
TRANSP:OPAQUE
URL:https://www.esse.bar/index.php/veranstaltungen/vergangene-veranstaltung
 en/1628-sommerloch-programm-4/2022-08-11-20-15
END:VEVENT
END:VCALENDAR
