BEGIN:VCALENDAR
VERSION:2.0
PRODID:-//ESSE Musicbar Winterthur//NONSGML kigkonsult.se iCalcreator 2.41.92//
CALSCALE:GREGORIAN
METHOD:PUBLISH
UID:63653239-3430-4161-a534-613162336135
X-WR-CALNAME:iCagenda
X-WR-CALDESC:Event Management Extension for Joomla!
X-WR-RELCALID:3E26604A-50F4-4449-8B3E-E4F4932D05B5
X-WR-TIMEZONE:Europe/Zurich
BEGIN:VTIMEZONE
TZID:Europe/Zurich
TZUNTIL:20240331T010000Z
BEGIN:STANDARD
TZNAME:CET
DTSTART:20211031T030000
TZOFFSETFROM:+0200
TZOFFSETTO:+0100
RDATE:20221030T030000
RDATE:20231029T030000
END:STANDARD
BEGIN:DAYLIGHT
TZNAME:CEST
DTSTART:20220327T020000
TZOFFSETFROM:+0100
TZOFFSETTO:+0200
RDATE:20230326T020000
END:DAYLIGHT
END:VTIMEZONE
BEGIN:VEVENT
UID:39376238-6662-4134-b131-656234623734
DTSTAMP:20260419T211735Z
CATEGORIES:Sommerloch
CLASS:PUBLIC
DESCRIPTION;ALTREP="CID:<FFFF__=0ABBE548DFE235B58f9e8a93d@coffeebean.com>":
 Vintage Blues &amp\; Swing\nWie soll's denn schmecken? Sweet oder Hot? Kei
 ne Frage\, die «Red Hot Serenaders» machen einfach beides: Rainer Wöffler 
 (D) und Tanja Wirz (CH) servieren hochprozentigen Blues\, heissen Jazz\, z
 artbittere Chansons\, schmelzende Hawaiimusik und rattenscharfen Ragtime.
 \nZubereitet werden diese hauptsächlich aus den 20er- und 30er-Jahren stam
 menden musikalischen Leckerbissen auf einer breiten Palette von Instrument
 en\, die teilweise ebenso alt sind wie die Songs. Ob Gitarre\, Ukulele\, M
 andoline\, Bottleneck\, Waschbrett\, Cajon oder Klarinette: Nichts ist vor
  den beiden begeisterten Musikanten sicher\, die seit ihrem ersten gemeins
 amen Konzert im Sommer 2011 an zahlreichen Orten in Deutschland\, Österrei
 ch\, Frankreich\, Italien und der Schweiz aufgetreten sind und Anfang 2012
  ihr Debut-Album «Such A Night» veröffentlicht haben\, gefolgt vom Blues-A
 lbum «Down The Big Road» (2016).\nRainer Wöffler ist schon seit Jahrzehnte
 n in der europäischen Bluesszene unterwegs. Seine besondere Leidenschaft g
 ilt den Resonatorgitarren\, er singt\, spielt Ukulele\, Hawaiigitarre und 
 Mandoline und ist als grossartiger Slide-Gitarrist bekannt. Tanja Wirz swi
 ngt sich als «Frau Doktor Jazz» mit Gitarre\, Ukulele\, Percussion\, Klari
 nette und einer ausdrucksstarken Stimme durch das Serenaders-Menü. Zusamme
 n spielen sie mit viel Hingabe\, Humor und zweistimmigem Gesang akustische
  Stringband-Musik vom Feinsten. Guten Appetit!\nTanja Wirz (voc\, cl\, g\,
  uku\, perc)\, Rainer Wöffler (voc\, g\, uku\, mand\, lapsteel)\nwww.redho
 tserenaders.ch
DTSTART:20220812T181500Z
DTEND:20220812T181500Z
GEO:00;0
LOCATION:
ORGANIZER:
SEQUENCE:1
SUMMARY:Red Hot Serenaders
TRANSP:OPAQUE
URL:https://www.esse.bar/index.php/veranstaltungen/vergangene-veranstaltung
 en/1629-sommerloch-programm-5/2022-08-12-20-15
END:VEVENT
END:VCALENDAR
