BEGIN:VCALENDAR
VERSION:2.0
PRODID:-//ESSE Musicbar Winterthur//NONSGML kigkonsult.se iCalcreator 2.41.92//
CALSCALE:GREGORIAN
METHOD:PUBLISH
UID:31633335-3737-4865-b161-323332336364
X-WR-CALNAME:iCagenda
X-WR-CALDESC:Event Management Extension for Joomla!
X-WR-RELCALID:3E26604A-50F4-4449-8B3E-E4F4932D05B5
X-WR-TIMEZONE:Europe/Zurich
BEGIN:VTIMEZONE
TZID:Europe/Zurich
TZUNTIL:20240331T010000Z
BEGIN:STANDARD
TZNAME:CET
DTSTART:20211031T030000
TZOFFSETFROM:+0200
TZOFFSETTO:+0100
RDATE:20221030T030000
RDATE:20231029T030000
END:STANDARD
BEGIN:DAYLIGHT
TZNAME:CEST
DTSTART:20220327T020000
TZOFFSETFROM:+0100
TZOFFSETTO:+0200
RDATE:20230326T020000
END:DAYLIGHT
END:VTIMEZONE
BEGIN:VEVENT
UID:39366534-6633-4536-a633-613132653535
DTSTAMP:20260419T212535Z
CATEGORIES:Sommerloch
CLASS:PUBLIC
DESCRIPTION;ALTREP="CID:<FFFF__=0ABBE548DFE235B58f9e8a93d@coffeebean.com>":
 Alex Good spielt seit 30 Jahren Gitarre. Nach knapp 20 Jahren als Sideman 
 in diversen Bands\, ist er seit 2014 als Singer/Songwriter mit seiner eige
 nen Band und als Solokünstler unterwegs.\nWürde es eine «Hall of Fame» der
  Frauenfelder Bandszene geben: Alex Good hätte einen Platz auf sicher. Mit
  16 fing es mit der ersten Schülerband an. Gitarrist und für Backing-Vocal
 s verantwortlich war er etwa bei Mind’s Eye\, Genem\, Mascara\, Tuesday\, 
 Sinside\, Pure und bei den Galgevögeln. Vor rund sieben Jahren dann glückt
 e der Versuch\, Good schrieb selber Songs\, komponierte selber. Das war di
 e Wandlung zum Bandleader\, zu Alex Good &amp\; Band. Singer-/Songwriter-S
 ound tritt auf Blues- und Classic-Rock\, dazu Americana-Einschlag. 2015 fo
 lgte ein erstes Album: «Get real». 2018 folgten zwei Single-Auskopplungen\
 , die es nur digital zu kaufen gab.\nGood hat nach wie vor einen normalen 
 Brotjob. Musik als Hobby? «Das ist mehr als Hobby\, das ist Leidenschaft»\
 , sagt er. Mit der 2018er-Single «Good Times» gelang ihm ein erster Achtun
 gserfolg\, als der catchy Song ein Jahr lang bei der Fluggesellschaft Swis
 s Titelsong im Bordentertainment war. Und bei Radio Swisspop hat sich der 
 Track bis heute in der Playlist gehalten.\nAlex Good war mit seiner Band u
 nd im Rahmen von «Songwriters in the Round» bereits mehrmals in der ESSE z
 u Gast. Diesmal ist er als Solokünstler mit Akustikgitarre unterwegs und u
 nterstreicht damit seine Qualitäten als Singer/Songwriter.\nAlex Good (g\,
  voc)\nwww.alexgood.ch
DTSTART:20220814T181500Z
DTEND:20220814T181500Z
GEO:00;0
LOCATION:
ORGANIZER:
SEQUENCE:1
SUMMARY:Alex Good
TRANSP:OPAQUE
URL:https://www.esse.bar/index.php/veranstaltungen/vergangene-veranstaltung
 en/1630-sommerloch-programm-6/2022-08-14-20-15
END:VEVENT
END:VCALENDAR
