BEGIN:VCALENDAR
VERSION:2.0
PRODID:-//ESSE Musicbar Winterthur//NONSGML kigkonsult.se iCalcreator 2.41.92//
CALSCALE:GREGORIAN
METHOD:PUBLISH
UID:63323834-6666-4739-a338-633638323431
X-WR-CALNAME:iCagenda
X-WR-CALDESC:Event Management Extension for Joomla!
X-WR-RELCALID:3E26604A-50F4-4449-8B3E-E4F4932D05B5
X-WR-TIMEZONE:Europe/Zurich
BEGIN:VTIMEZONE
TZID:Europe/Zurich
TZUNTIL:20240331T010000Z
BEGIN:STANDARD
TZNAME:CET
DTSTART:20211031T030000
TZOFFSETFROM:+0200
TZOFFSETTO:+0100
RDATE:20221030T030000
RDATE:20231029T030000
END:STANDARD
BEGIN:DAYLIGHT
TZNAME:CEST
DTSTART:20220327T020000
TZOFFSETFROM:+0100
TZOFFSETTO:+0200
RDATE:20230326T020000
END:DAYLIGHT
END:VTIMEZONE
BEGIN:VEVENT
UID:38356466-3930-4432-a331-373938316166
DTSTAMP:20260419T211424Z
CATEGORIES:Sommerloch
CLASS:PUBLIC
DESCRIPTION;ALTREP="CID:<FFFF__=0ABBE548DFE235B58f9e8a93d@coffeebean.com>":
 Die «Acoustic Blues Drifter» lassen den Blues und weitere amerikanische Vo
 lksmusik bis hin zum Country aus der Zeit von 1920 bis 1980 wieder auflebe
 n. Sie verstehen es aber auch\, durch originelle Eigenkompositionen neue W
 ege zu gehen und so diesen ursprünglichen Musikstilen eine ganze eigene No
 te zu geben. Im Duo präsentieren sie einen authentischen\, luftigen Sound 
 mit Bluesharp\, Gitarre und Gesang. Nicht umsonst heisst ihre letzte CD pa
 ssend «Stripped To the Bone».\nWalter Baumgartner singt und spielt die Har
 monica. Kontinuierlich hat er sich in der Schweizer Bluesszene einen Namen
  geschaffen. Nebst dem akustischen Duo tourt er mit seiner Band «Walt’s Bl
 ues Box» und als Gast bei diversen Bands durch die CH\, AT und DE. 2016 ha
 t er den «Swiss Blues Award» gewonnen.\nAn der Gitarre spielt und singt Jo
 e Schwach. Auch ihn muss man natürlich nicht mehr vorstellen. Joe ist seit
  vielen Jahren auf der Schweizer Bühnen zu sehen und zu hören. U.a. spielt
 e er jahrelang mit John Brack\, war mit Toni Vescoli auf Tour\, nahm im St
 udio mit Albert Lee auf und ist seit Jahren mit der Country Band «Rusty Nu
 ggets» und anderen Formationen unterwegs.\nWalter Baumgartner (harp\, voc)
 \, Joe Schwach (g\, voc)\nwww.walterbaumgartner.chhttps://www.joeschwach.c
 om
DTSTART:20220805T181500Z
DTEND:20220805T181500Z
GEO:00;0
LOCATION:
ORGANIZER:
SEQUENCE:1
SUMMARY:Acoustic Blues Drifter
TRANSP:OPAQUE
URL:https://www.esse.bar/index.php/veranstaltungen/vergangene-veranstaltung
 en/1631-sommerloch-programm-7/2022-08-05-20-15
END:VEVENT
END:VCALENDAR
