BEGIN:VCALENDAR
VERSION:2.0
PRODID:-//ESSE Musicbar Winterthur//NONSGML kigkonsult.se iCalcreator 2.41.92//
CALSCALE:GREGORIAN
METHOD:PUBLISH
UID:34383865-3261-4964-a361-626132386135
X-WR-CALNAME:iCagenda
X-WR-CALDESC:Event Management Extension for Joomla!
X-WR-RELCALID:3E26604A-50F4-4449-8B3E-E4F4932D05B5
X-WR-TIMEZONE:Europe/Zurich
BEGIN:VTIMEZONE
TZID:Europe/Zurich
TZUNTIL:20240331T010000Z
BEGIN:STANDARD
TZNAME:CET
DTSTART:20211031T030000
TZOFFSETFROM:+0200
TZOFFSETTO:+0100
RDATE:20221030T030000
RDATE:20231029T030000
END:STANDARD
BEGIN:DAYLIGHT
TZNAME:CEST
DTSTART:20220327T020000
TZOFFSETFROM:+0100
TZOFFSETTO:+0200
RDATE:20230326T020000
END:DAYLIGHT
END:VTIMEZONE
BEGIN:VEVENT
UID:62313137-6534-4939-a639-633263643032
DTSTAMP:20260419T212536Z
CATEGORIES:Sommerloch
CLASS:PUBLIC
DESCRIPTION;ALTREP="CID:<FFFF__=0ABBE548DFE235B58f9e8a93d@coffeebean.com>":
 Die Winterthurer Konzertreihe feiert die vielfältigen Facetten des Jazz au
 f der Bühne der ESSE Musicbar. Andreas Zitz (Kontrabass) und Christian Rös
 li (Piano) portraitieren zusammen mit ihren Gästen einmal im Monat an eine
 m Themenabend Musike:innen\, Komponist:innen\, ein Album oder eine Stil/Ze
 it-Epoche aus dem Universum des Jazz.\nIm «Sommerloch»-Programm steht in d
 er mittlerweile 14. Folge ihrer Reihe die Posaune als Instrument im Mittel
 punkt. Mit Bernhard Bamert und Silvio Cadotsch stehen dazu gleich zwei Mei
 ster ihres Fachs auf der Bühne. Vorhang auf für «Two Bones».\nAnfangs der 
 50er-Jahre gründeten die beiden berühmten Bebop-Posaunisten Jay Jay Johnse
 n und Kai Winding zusammen eine Band und nannten sie «Jay and Kai».Der neu
 e Sound der zwei Posaunisten und die Art des Arrangierens war sehr stilprä
 gend und es gibt wohl kaum einen Jazzposaunisten seither\, der sich nicht 
 wenigstens eine Aufnahme dieser Band angehört hat.\nDie beiden Gäste und P
 osaunisten Silvio Gadotsch und Bernhard Bamert erweisen Jay and Kai die Re
 ferenz und werden dabei vom erfahrenen 'Don’t forget the poets“-Team Andi 
 Zitz und Christian Rösli plus einem weiteren Gast aus Bern\, dem wunderbar
 en Schlagzeuger Tobias Friedli\, begleitet.\nBernhard Bamert (tb)\, Silvio
  Cadotsch (tb)\, Christian Rösli (p)\, Andreas Zitz (db)\, Tobias Friedli 
 (dr)\n \nhttps://www.bernhardbamert.chhttps://andreaszitz.chhttps://www.to
 biasfriedli.ch
DTSTART:20220819T181500Z
DTEND:20220819T181500Z
GEO:00;0
LOCATION:
ORGANIZER:
SEQUENCE:1
SUMMARY:Don’t Forget The Poets #14 – «Two Bones»
TRANSP:OPAQUE
URL:https://www.esse.bar/index.php/veranstaltungen/vergangene-veranstaltung
 en/1632-sommerloch-programm-8/2022-08-19-20-15
END:VEVENT
END:VCALENDAR
