BEGIN:VCALENDAR
VERSION:2.0
PRODID:-//ESSE Musicbar Winterthur//NONSGML kigkonsult.se iCalcreator 2.41.92//
CALSCALE:GREGORIAN
METHOD:PUBLISH
UID:32306264-3331-4236-a263-396234666361
X-WR-CALNAME:iCagenda
X-WR-CALDESC:Event Management Extension for Joomla!
X-WR-RELCALID:3E26604A-50F4-4449-8B3E-E4F4932D05B5
X-WR-TIMEZONE:Europe/Zurich
BEGIN:VTIMEZONE
TZID:Europe/Zurich
TZUNTIL:20240331T010000Z
BEGIN:STANDARD
TZNAME:CET
DTSTART:20211031T030000
TZOFFSETFROM:+0200
TZOFFSETTO:+0100
RDATE:20221030T030000
RDATE:20231029T030000
END:STANDARD
BEGIN:DAYLIGHT
TZNAME:CEST
DTSTART:20220327T020000
TZOFFSETFROM:+0100
TZOFFSETTO:+0200
RDATE:20230326T020000
END:DAYLIGHT
END:VTIMEZONE
BEGIN:VEVENT
UID:36373530-3639-4664-b039-366335623465
DTSTAMP:20260419T212509Z
CATEGORIES:Sommerloch
CLASS:PUBLIC
DESCRIPTION;ALTREP="CID:<FFFF__=0ABBE548DFE235B58f9e8a93d@coffeebean.com>":
 Den umtriebigen seit fünf Jahren in Winterthur wohnhaften Singer-/Songwrit
 er Dave Curl muss man wohl niemandem mehr vorstellen. Seine letzte Single 
 «Tony» – ein Song über Transsexualität – hat ihn kürzlich gleich mehrfach 
 in die Medien gehievt. Gesellschaftliche Themen in Songs zu behandeln\, is
 t bei Curl nicht die Ausnahme\, sondern die Regel. «Mir liegen ‹Underdog› 
 Themen am Herzen\, insbesondere Bevölkerungsgruppen\, die aufgrund ihrer L
 ebensweise ausgegrenzt werden»\, sagt der Musiker\, dessen Mutter aus Aust
 ralien kommt. Inspiration für neue Lieder finde er im Alltag\, bei Begegnu
 ngen und auf Reisen.\nDave Curl bezeichnet seine Musik als Mischung zwisch
 en Indie \, Acoustic und Folk Rock. Schreiben und komponieren tut er sie a
 llesamt selbst. Damit begann er Anfang 20\, nachdem er sich das Gitarrespi
 elen beigebracht hatte. Der Musik mehr Platz in seinem Leben zu geben\, en
 tschied er sich allerdings erst 2013 während eines längeren Aufenthalts in
  Hawaii.\nSeither hat er – ob solo oder mit seiner Band – über 100 Konzert
 e im In und Ausland gespielt. In Winterthur ist er im Monat August in vers
 chiedenen Formationen gleich mehrfach zu hören. Bei uns in der ESSE als ak
 ustisches Gitarren-Duo mit Gesang.\nDave Curl (g\, voc\, comp)\, Colin Hau
 denschild (g\, b-cov)\nhttps://davecurl.com
DTSTART:20220821T181500Z
DTEND:20220821T181500Z
GEO:00;0
LOCATION:
ORGANIZER:
SEQUENCE:1
SUMMARY:Dave Curl Acoustic Duo
TRANSP:OPAQUE
URL:https://www.esse.bar/index.php/veranstaltungen/vergangene-veranstaltung
 en/1633-sommerloch-programm-9/2022-08-21-20-15
END:VEVENT
END:VCALENDAR
