BEGIN:VCALENDAR
VERSION:2.0
PRODID:-//ESSE Musicbar Winterthur//NONSGML kigkonsult.se iCalcreator 2.41.92//
CALSCALE:GREGORIAN
METHOD:PUBLISH
UID:36323239-3563-4536-a632-623462383135
X-WR-CALNAME:iCagenda
X-WR-CALDESC:Event Management Extension for Joomla!
X-WR-RELCALID:3E26604A-50F4-4449-8B3E-E4F4932D05B5
X-WR-TIMEZONE:Europe/Zurich
BEGIN:VTIMEZONE
TZID:Europe/Zurich
TZUNTIL:20240331T010000Z
BEGIN:STANDARD
TZNAME:CET
DTSTART:20211031T030000
TZOFFSETFROM:+0200
TZOFFSETTO:+0100
RDATE:20221030T030000
RDATE:20231029T030000
END:STANDARD
BEGIN:DAYLIGHT
TZNAME:CEST
DTSTART:20220327T020000
TZOFFSETFROM:+0100
TZOFFSETTO:+0200
RDATE:20230326T020000
END:DAYLIGHT
END:VTIMEZONE
BEGIN:VEVENT
UID:38333730-6135-4633-a235-626137666633
DTSTAMP:20260419T212610Z
CATEGORIES:Sommerloch
CLASS:PUBLIC
DESCRIPTION;ALTREP="CID:<FFFF__=0ABBE548DFE235B58f9e8a93d@coffeebean.com>":
 Musikanten\, die mitjamen möchten melden sich direkt bei Richard Schmied r
 schmied(at)bluewin.ch | Telefon 044-869 42 32 – mobil 079-433 76 33\nUnter
  dem Label «Jam Point» finden seit Juli 2014 regelmässige Jam-Sessions sta
 tt\, seit Januar 2022 in der ESSE Musicbar in Winterthur. Die Organisatore
 n von «Jam Point» haben bis Ende Jahr drei weitere Ausgaben mit der ESSE-L
 eitung vereinbart: Jeweils mittwochs\, am 31. August\, 26. September und 3
 0. November 2022.\nStanden bei den bisherigen drei Sessions jeweils Gastmu
 siker:innen im Fokus\, verzichten die Organisatoren diesmal bewusst darauf
  und räumen der regelmässig wirkenden Basis-Band\, der «Jam Point Group»\,
  mehr Platz ein.\nSo beginnt die Jamsession bereits mit dem ersten Stück u
 nd in einigen Songs wird jeweils ein Solist der JPG speziell vorgestellt. 
 Alle sind überzeugt\, dass dies die Attraktivität aller Teilnehmenden nich
 t beeinträchtigen\, sondern die Qualität der ganzen Session auf hohem Nive
 au halten wird.\nSelbstverständlich sind\, wie auch bei den bisherigen Auf
 tritten\, engagierte Jazzer:innen herzlich eingeladen\, spontan die Instru
 mente und natürlich auch die Stimme(!) mitzubringen. In kleinen\, regelmäs
 sig wechselnden Formationen\, kommen alle zum Spielen.\nRichi Schmied (tp\
 , flh)\, Bruno Bosshardt (cl\, s)\, Elmar Kluth (p)\, Timon Roth (b)\, Ber
 nie Ruch (dr)\nhttp://www.jam-point.ch/
DTSTART:20220831T181500Z
DTEND:20220831T181500Z
GEO:00;0
LOCATION:
ORGANIZER:
SEQUENCE:1
SUMMARY:Jam Point Session #04
TRANSP:OPAQUE
URL:https://www.esse.bar/index.php/veranstaltungen/vergangene-veranstaltung
 en/1636-jam-point-session-4/2022-08-31-20-15
END:VEVENT
END:VCALENDAR
