BEGIN:VCALENDAR
VERSION:2.0
PRODID:-//ESSE Musicbar Winterthur//NONSGML kigkonsult.se iCalcreator 2.41.92//
CALSCALE:GREGORIAN
METHOD:PUBLISH
UID:36653731-3162-4361-a530-643038653632
X-WR-CALNAME:iCagenda
X-WR-CALDESC:Event Management Extension for Joomla!
X-WR-RELCALID:3E26604A-50F4-4449-8B3E-E4F4932D05B5
X-WR-TIMEZONE:Europe/Zurich
BEGIN:VTIMEZONE
TZID:Europe/Zurich
TZUNTIL:20240331T010000Z
BEGIN:STANDARD
TZNAME:CET
DTSTART:20211031T030000
TZOFFSETFROM:+0200
TZOFFSETTO:+0100
RDATE:20221030T030000
RDATE:20231029T030000
END:STANDARD
BEGIN:DAYLIGHT
TZNAME:CEST
DTSTART:20220327T020000
TZOFFSETFROM:+0100
TZOFFSETTO:+0200
RDATE:20230326T020000
END:DAYLIGHT
END:VTIMEZONE
BEGIN:VEVENT
UID:31393039-6162-4938-a563-646436373631
DTSTAMP:20260419T215129Z
CATEGORIES:Jazz
CLASS:PUBLIC
DESCRIPTION;ALTREP="CID:<FFFF__=0ABBE548DFE235B58f9e8a93d@coffeebean.com>":
 GRAMMY Award® Gewinner Linus Wyrsch aus Küssnacht am Rigi lebt seit bald 1
 5 Jahren in New York City\, wo er zu den gefragtesten Klarinettisten und S
 axofonisten gehört. Er tourt durch die Welt und moderierte während 12 1/2 
 Jahren gar seinen eigenen Podcast 'The Jazz Hole' für BTRtoday.com.\nSein 
 «Linus NYC Quartet with Gizem Gokoglu» besteht aus einer multikulturellen 
 Besetzung mit der preisgekrönten Komponistin und Sängerin Gizem Gokoglu (T
 ürkei &amp\; Nordzypern) an vorderster Front. Gizem studierte am Berklee C
 ollege of Music und an der New York University. Sie lebt ebenfalls seit me
 hr als einem Jahrzehnt in NYC\, wo sie sich sowohl als Vokalistin als auch
  im Kompositions-Bereich einen Namen gemacht hat.\nDer bekannte Pianist Al
 essandro d’Episcopo (aus Neapel stammend) stösst bei dieser Tour zum erste
 n Mal hinzu\, während Linus' Vater Urs Wyrsch selbstverständlich wieder de
 n Bass betätigen wird. Das Quartett mit Vater und Sohn im Duo tritt regelm
 ässig zusammen in Europa auf und durfte kurz vor der Pandemie sogar in NYC
  beim Schweizer Botschafter spielen.\nMit überzeugender Leidenschaft präse
 ntiert das Ensemble jedes Jahr ein frisches\, abwechslungsreiches Programm
  aus beliebten amerikanischen und europäischen Standards\, raffinierten Ei
 genkompositionen und swingenden Improvisationen.\nGizem Gokoglu (voc)\, Li
 nus Wyrsch (cl\, ts)\, Alessandro d’Episcopo (p)\, Urs Wyrsch (db)\nhttps:
 //www.linusmusic.com
DTSTART:20220901T181500Z
DTEND:20220901T181500Z
GEO:00;0
LOCATION:
ORGANIZER:
SEQUENCE:1
SUMMARY:Linus NYC Quartet with Gizem Gokoglu
TRANSP:OPAQUE
URL:https://www.esse.bar/index.php/veranstaltungen/vergangene-veranstaltung
 en/1637-nyv/2022-09-01-20-15
END:VEVENT
END:VCALENDAR
