BEGIN:VCALENDAR
VERSION:2.0
PRODID:-//ESSE Musicbar Winterthur//NONSGML kigkonsult.se iCalcreator 2.41.92//
CALSCALE:GREGORIAN
METHOD:PUBLISH
UID:32353831-3838-4362-b864-646462643133
X-WR-CALNAME:iCagenda
X-WR-CALDESC:Event Management Extension for Joomla!
X-WR-RELCALID:3E26604A-50F4-4449-8B3E-E4F4932D05B5
X-WR-TIMEZONE:Europe/Zurich
BEGIN:VTIMEZONE
TZID:Europe/Zurich
TZUNTIL:20240331T010000Z
BEGIN:STANDARD
TZNAME:CET
DTSTART:20211031T030000
TZOFFSETFROM:+0200
TZOFFSETTO:+0100
RDATE:20221030T030000
RDATE:20231029T030000
END:STANDARD
BEGIN:DAYLIGHT
TZNAME:CEST
DTSTART:20220327T020000
TZOFFSETFROM:+0100
TZOFFSETTO:+0200
RDATE:20230326T020000
END:DAYLIGHT
END:VTIMEZONE
BEGIN:VEVENT
UID:32653531-3466-4666-b435-626634663365
DTSTAMP:20260419T212700Z
CATEGORIES:Folk & More
CLASS:PUBLIC
DESCRIPTION;ALTREP="CID:<FFFF__=0ABBE548DFE235B58f9e8a93d@coffeebean.com>":
 Tangos und Eigenkompositionen zwischen Jazz\, Flamenco und Weltmusik\n«Son
 idos del Sol»\, das ist sprudelndes Temperament\, mal fröhlich und meditat
 iv\, mal rasend und mitreissend. Die drei virtuosen Musiker:innen\, beheim
 atet in Jazz\, Klassik und Flamenco\, verbinden verschiedene Stile geschic
 kt zu Eigenkreationen und entführen das Publikum in vielfältige Musikwelte
 n.\nVoller Energie und Witz wird improvisiert\, fabuliert und komponiert. 
 So entsteht ein kurzweiliges Programm\, in dem auch Tangos von Astor Piazz
 olla in eigenwilliger Fassung nicht fehlen. «Sonidos del Sol» bringen die 
 Sonne und Wärme Südamerikas in den September.\nFranziska Stadelmann: Flöte
 \, Alt-und Bassquerflöte\, PiccoloNick Perrin: GitarreMartin Stadelmann: P
 ercussion-Drumset\, Handpans\, Hang\, Caisa\nwww.martinstadelmann.ch
DTSTART:20220904T181500Z
DTEND:20220904T181500Z
GEO:00;0
LOCATION:
ORGANIZER:
SEQUENCE:1
SUMMARY:Sonidos del Sol
TRANSP:OPAQUE
URL:https://www.esse.bar/index.php/veranstaltungen/vergangene-veranstaltung
 en/1638-nyv-2/2022-09-04-20-15
END:VEVENT
END:VCALENDAR
