BEGIN:VCALENDAR
VERSION:2.0
PRODID:-//ESSE Musicbar Winterthur//NONSGML kigkonsult.se iCalcreator 2.41.92//
CALSCALE:GREGORIAN
METHOD:PUBLISH
UID:63343037-3261-4134-b433-646133633964
X-WR-CALNAME:iCagenda
X-WR-CALDESC:Event Management Extension for Joomla!
X-WR-RELCALID:3E26604A-50F4-4449-8B3E-E4F4932D05B5
X-WR-TIMEZONE:Europe/Zurich
BEGIN:VTIMEZONE
TZID:Europe/Zurich
TZUNTIL:20240331T010000Z
BEGIN:STANDARD
TZNAME:CET
DTSTART:20211031T030000
TZOFFSETFROM:+0200
TZOFFSETTO:+0100
RDATE:20221030T030000
RDATE:20231029T030000
END:STANDARD
BEGIN:DAYLIGHT
TZNAME:CEST
DTSTART:20220327T020000
TZOFFSETFROM:+0100
TZOFFSETTO:+0200
RDATE:20230326T020000
END:DAYLIGHT
END:VTIMEZONE
BEGIN:VEVENT
UID:36646237-6462-4734-b764-383465363532
DTSTAMP:20260419T213019Z
CATEGORIES:Jazz
CLASS:PUBLIC
DESCRIPTION;ALTREP="CID:<FFFF__=0ABBE548DFE235B58f9e8a93d@coffeebean.com>":
 «Jazz ist die Freiheit\, viele Formen zu haben.» Dieses Zitat von Duke Ell
 ington ist sprichwörtlich Programm des Erich Fischer Quartetts. Der stilis
 tisch vielfältigen und abwechslungsreichen Welt des Jazz hat sich der Band
 leader verschrieben\, scheut sich aber keineswegs auch Einflüsse der latei
 namerikanischen und afrikanischen Musik in seine Kompositionen einfliessen
  zu lassen.\nPhantasievolle Themata\, mal sparsam im Duo\, mal aus dem Vol
 len schöpfend\, spannende Soli\, mal leise und ruhig\, mal ekstatisch brod
 elnd\, sind der Inhalt.Die musikalische Form überrascht in variablen Beset
 zungen\, immer den weichen Klang des Vibraphons im Zentrum\, ein Kontrabas
 s\, der sich nicht scheut die Melodie zu übernehmen\, ein Schlagzeug\, das
  weit mehr als die rhythmische Grundlage bietet und darüber die Klangfarbe
  des Saxophones\, welches den Bandsound ausgezeichnet abrundet.\nDaraus en
 tsteht die packende Energie\, der frische Spielwitz und die Leidenschaft m
 it der das Erich Fischer Quartett zu überzeugen vermag.\nDave Feusi (ss\,t
 s)\, Erich «Joey Oz» Fischer (vib\, Bariton-Horn)\, Thomas Lähns (db)Tony 
 Renold (dr)Gast: Kateryna Chemezova (voc)\nhttps://www.erichfischer-musik.
 ch/erich-fischer-quartett
DTSTART:20220909T181500Z
DTEND:20220909T181500Z
GEO:00;0
LOCATION:
ORGANIZER:
SEQUENCE:1
SUMMARY:Erich Fischer Quartett - Jazz & Mehr
TRANSP:OPAQUE
URL:https://www.esse.bar/index.php/veranstaltungen/vergangene-veranstaltung
 en/1641-frank-muschalle-3/2022-09-09-20-15
END:VEVENT
END:VCALENDAR
