BEGIN:VCALENDAR
VERSION:2.0
PRODID:-//ESSE Musicbar Winterthur//NONSGML kigkonsult.se iCalcreator 2.41.92//
CALSCALE:GREGORIAN
METHOD:PUBLISH
UID:35353262-3561-4364-a438-663933623366
X-WR-CALNAME:iCagenda
X-WR-CALDESC:Event Management Extension for Joomla!
X-WR-RELCALID:3E26604A-50F4-4449-8B3E-E4F4932D05B5
X-WR-TIMEZONE:Europe/Zurich
BEGIN:VTIMEZONE
TZID:Europe/Zurich
TZUNTIL:20241027T010000Z
BEGIN:STANDARD
TZNAME:CET
DTSTART:20211031T030000
TZOFFSETFROM:+0200
TZOFFSETTO:+0100
RDATE:20221030T030000
RDATE:20231029T030000
END:STANDARD
BEGIN:DAYLIGHT
TZNAME:CEST
DTSTART:20220327T020000
TZOFFSETFROM:+0100
TZOFFSETTO:+0200
RDATE:20230326T020000
RDATE:20240331T020000
END:DAYLIGHT
END:VTIMEZONE
BEGIN:VEVENT
UID:33353163-6434-4336-b631-646438643031
DTSTAMP:20260419T195849Z
CATEGORIES:Jazz
CLASS:PUBLIC
DESCRIPTION;ALTREP="CID:<FFFF__=0ABBE548DFE235B58f9e8a93d@coffeebean.com>":
 «Moons Ago» heisst das aktuelle Aufnahmeprojekt dieses Quartetts\, in dem 
 sich vier Seelenverwandte aus ganz Europa zusammengefunden haben. Die Prot
 agonisten stammen aus der Schweiz\, Italien und Lettland.\nDer italienisch
 e Saxophonist Max Ionata ist nicht nur einer der gefragtesten Tenorsaxopho
 nisten Italiens\, sondern hat auch international ein grosses Rennomee erre
 icht. In Japan beispielsweise ist er ein häufiger und gern gesehener Gast.
  Dies nicht zuletzt dank seinem melodiösen und geschmackvollen Saxophonspi
 el und seinem vollen warmen Sound.\nSeine mehrfach mit Preisen ausgezeichn
 eten Mitmusiker stehen ihm in nichts nach: Sie teilen mit ihm die Vorliebe
  für einen stabilen Groove\, einen unerschütterlichen Swing\, starke Melod
 ien und eine fein gedrechselte Harmonik – ganz in der Tradition der Swing-
 \, Bebop- und Hardbop-Ära. Dies steht denn auch im Zentrum ihres eigenstän
 digen\, ästhetisch lupenreinen Klangs\, in den sie in variantenfrohen und 
 stimmigen Eigenkompositionen Dominik Schürmanns und Standards unterschiedl
 iche stilistische Einflüsse und Rhythmen einbringen. Dabei sorgen sie für 
 einen ganz speziellen\, einnehmenden und nachhallenden Sound.\nhttps://you
 tu.be/a1LiAUy4NWYhttps://youtu.be/4aNWeIfKcpI\nMax Ionata (Italien): Tenor
  SaxophoYuri Storione (Italien): PianoDominik Schürmann (CH): BassJãnis Ja
 unalksnis (Lettland): Drums\nwww.dominikschuermann.chwww.maxionata.com www
 .yuristorione.com \n 
DTSTART:20221005T181500Z
DTEND:20221005T181500Z
GEO:00;0
LOCATION:
ORGANIZER:
SEQUENCE:1
SUMMARY:Dominik Schürmann Trio  feat. Max Ionata
TRANSP:OPAQUE
URL:https://www.esse.bar/index.php/veranstaltungen/vergangene-veranstaltung
 en/1642-frank-muschalle-4/2022-10-05-20-15
END:VEVENT
END:VCALENDAR
