BEGIN:VCALENDAR
VERSION:2.0
PRODID:-//ESSE Musicbar Winterthur//NONSGML kigkonsult.se iCalcreator 2.41.92//
CALSCALE:GREGORIAN
METHOD:PUBLISH
UID:65333963-3338-4838-b730-303333326266
X-WR-CALNAME:iCagenda
X-WR-CALDESC:Event Management Extension for Joomla!
X-WR-RELCALID:3E26604A-50F4-4449-8B3E-E4F4932D05B5
X-WR-TIMEZONE:Europe/Zurich
BEGIN:VTIMEZONE
TZID:Europe/Zurich
TZUNTIL:20241027T010000Z
BEGIN:STANDARD
TZNAME:CET
DTSTART:20211031T030000
TZOFFSETFROM:+0200
TZOFFSETTO:+0100
RDATE:20221030T030000
RDATE:20231029T030000
END:STANDARD
BEGIN:DAYLIGHT
TZNAME:CEST
DTSTART:20220327T020000
TZOFFSETFROM:+0100
TZOFFSETTO:+0200
RDATE:20230326T020000
RDATE:20240331T020000
END:DAYLIGHT
END:VTIMEZONE
BEGIN:VEVENT
UID:37323066-3032-4239-b061-326364636233
DTSTAMP:20260419T195742Z
CATEGORIES:Blues
CLASS:PUBLIC
DESCRIPTION;ALTREP="CID:<FFFF__=0ABBE548DFE235B58f9e8a93d@coffeebean.com>":
 Genuine Blues [genuine = authentisch\, echt]… Kurt Bislin und Tino Forlin 
 gehen weit zurück zu den Wurzeln des Blues\, bar aller Anklänge an all die
  heute modernen Ausprägungen dieses Genres. In ihrem Verständnis hat der B
 lues wenig mit drei Akkorden\, schnellen Soli und dunklen Sonnenbrillen zu
  tun... vielmehr aber mit der Seele und dem Rhythmus dieser Musik.\nIm Rep
 ertoire des Duos finden sich Songs aus dem reichen Fundus des Blues der le
 tzten hundert Jahre\, eigene Kompositionen und auch mal die eine oder ande
 re Southern-Soul-Trouvaille. Ein Augenmerk liegt dabei auf dem Blues aus L
 ouisiana und New Orleans.\nIn Tino Forlin fand Kurt Bislin einen Mitmusike
 r und notabene Weggefährten aus alten Tagen\, der bereit war\, sich auf da
 s Projekt einzulassen. In der Zweier-Besetzung «Bislin &amp\; Forlin - The
  Genuine Blues Duo» kommt die Musik ganz nahe zum Publikum. Für das Konzer
 t in der ESSE gibt es dann gleich auch noch eine Première: Der Saxophonist
  Rolf «Vanny» de Marchi (Lazy Poker Blues Band) gesellt sich als Special G
 uest dazu und so loten die drei die Tiefen des geliebten Blues ganz ohne N
 etz und doppelten Boden aus.\nKurt Bislin (g\, voc)\, Tino Forlin (p\, org
 \, voc)\, Rolf «Vanny» de Marchi (s)\nwww.burrobeat.com
DTSTART:20221016T173000Z
DTEND:20221016T173000Z
GEO:00;0
LOCATION:
ORGANIZER:
SEQUENCE:1
SUMMARY:Bislin & Forlin feat. Rolf 'Vanny' de Marchi
TRANSP:OPAQUE
URL:https://www.esse.bar/index.php/veranstaltungen/vergangene-veranstaltung
 en/1643-frank-muschalle-5/2022-10-16-19-30
END:VEVENT
END:VCALENDAR
