BEGIN:VCALENDAR
VERSION:2.0
PRODID:-//ESSE Musicbar Winterthur//NONSGML kigkonsult.se iCalcreator 2.41.92//
CALSCALE:GREGORIAN
METHOD:PUBLISH
UID:37353835-3631-4037-a364-656662653730
X-WR-CALNAME:iCagenda
X-WR-CALDESC:Event Management Extension for Joomla!
X-WR-RELCALID:3E26604A-50F4-4449-8B3E-E4F4932D05B5
X-WR-TIMEZONE:Europe/Zurich
BEGIN:VTIMEZONE
TZID:Europe/Zurich
TZUNTIL:20241027T010000Z
BEGIN:STANDARD
TZNAME:CET
DTSTART:20211031T030000
TZOFFSETFROM:+0200
TZOFFSETTO:+0100
RDATE:20221030T030000
RDATE:20231029T030000
END:STANDARD
BEGIN:DAYLIGHT
TZNAME:CEST
DTSTART:20220327T020000
TZOFFSETFROM:+0100
TZOFFSETTO:+0200
RDATE:20230326T020000
RDATE:20240331T020000
END:DAYLIGHT
END:VTIMEZONE
BEGIN:VEVENT
UID:61306334-3733-4737-b535-316633656337
DTSTAMP:20260419T195619Z
CATEGORIES:Jazz
CLASS:PUBLIC
DESCRIPTION;ALTREP="CID:<FFFF__=0ABBE548DFE235B58f9e8a93d@coffeebean.com>":
 Das Quintett um den jungen Saxophonisten setzt sich aus namhaften Musikern
  der Schweizer Jazzszene sowie Newcomern der internationalen Jazzszene zus
 ammen. Die fünf Musiker verbindet ihre Liebe und Leidenschaft für die amer
 ikanische Jazztradition und sie wissen die Jazz-Sprache gekonnt in ihr Spi
 el einfliessen zu lassen. So entstehen beim Zusammentreffen der zwei versc
 hiedenen Generationen musikalische Dialoge auf höchstem Niveau\, bei denen
  aus der Kombination von Tradition und Moderne immer neue Inspiration gesc
 höpft wird.\nDas Quintett präsentiert vorwiegend die Eigenkompositionen de
 s Bandleaders\, in denen sein Feingefühl für eingängige Melodien\, wie sei
 ne Fähigkeit als Arrangeur zum Ausdruck kommen. Auch im Repertoire sind au
 sgewählte Kompositionen und Jazzstandards z.B. von Joe Henderson\, Kenny D
 orham\, die auf eine groovende\, frische Art und Weise interpretiert werde
 n und in neuem Glanz erstrahlen.\nPatrick Joray (s\, comp\, arr)\, Oscar L
 atorre (tp)\, Raphael Jost (p)\, Tobias Melcher (db)\, Elmar Frey (dr)\nTr
 ailer: https://youtu.be/dHy8rAW8Pichttps://www.patrickjoray.com/projects
DTSTART:20221020T181500Z
DTEND:20221020T181500Z
GEO:00;0
LOCATION:
ORGANIZER:
SEQUENCE:1
SUMMARY:Patrick Joray Quintet feat. Raphael Jost & Elmar Frey
TRANSP:OPAQUE
URL:https://www.esse.bar/index.php/veranstaltungen/vergangene-veranstaltung
 en/1645-patrick-joray-quintet-feat-raphael-jost-elmar-frey/2022-10-20-20-1
 5
END:VEVENT
END:VCALENDAR
