BEGIN:VCALENDAR
VERSION:2.0
PRODID:-//ESSE Musicbar Winterthur//NONSGML kigkonsult.se iCalcreator 2.41.92//
CALSCALE:GREGORIAN
METHOD:PUBLISH
UID:63303338-3264-4965-b030-663039323865
X-WR-CALNAME:iCagenda
X-WR-CALDESC:Event Management Extension for Joomla!
X-WR-RELCALID:3E26604A-50F4-4449-8B3E-E4F4932D05B5
X-WR-TIMEZONE:Europe/Zurich
BEGIN:VTIMEZONE
TZID:Europe/Zurich
TZUNTIL:20241027T010000Z
BEGIN:STANDARD
TZNAME:CET
DTSTART:20221030T030000
TZOFFSETFROM:+0200
TZOFFSETTO:+0100
RDATE:20231029T030000
END:STANDARD
BEGIN:DAYLIGHT
TZNAME:CEST
DTSTART:20220327T020000
TZOFFSETFROM:+0100
TZOFFSETTO:+0200
RDATE:20230326T020000
RDATE:20240331T020000
END:DAYLIGHT
END:VTIMEZONE
BEGIN:VEVENT
UID:35656436-3565-4637-a439-303834643238
DTSTAMP:20260419T195731Z
CATEGORIES:Jazz
CLASS:PUBLIC
DESCRIPTION;ALTREP="CID:<FFFF__=0ABBE548DFE235B58f9e8a93d@coffeebean.com>":
 Ägypten - Tunesien - Schweiz: Seit mittlerweile 25 Jahren leitet Stephan A
 thanas das «ContempArabic Jazz Ensemble»\, das Musik aus der arabischen We
 lt und Elemente aus dem Jazz zu einem neuartigen Amalgam mischt. Zahlreich
 e Konzerte im In- und Ausland haben die Formation zu einer verschworenen G
 emeinschaft gemacht\, so dass sie auch nach 25 Jahren in neuer Frische ein
  Jubiläumsprogramm präsentieren können.\nMusiker:innen aus Tunesien\, Fran
 kreich und der Schweiz begleiten Athanas auf dieser Reise durch Kulturen u
 nd Zeiten\, welcher mit seinen Kompositionen und Arrangements die Reiserou
 te für das Ensemble festlegt. In der ESSE präsentieren sie das neue Album 
 «Tabarka Blues».\nSamiha Ben Said (voc\, Quanûn)\, Samir Ferjani (Nay Flöt
 e)\, Dave Feusi (s)\, Bernard Vidal (g)\, Stephan Athanas (b\, comp)\, Ben
 ji Fellous (arab. Perkussion)\, Tony Renold (dr)\nhttps://stephanathanas.c
 h/athanas_contemparabic/\nDiese Veranstaltung wird ermöglicht durch:Dahind
 en Heim Partner Architekten AG | CH - 8400 Winterthur | www.dhpa.ch
DTSTART:20221110T191500Z
DTEND:20221110T191500Z
GEO:00;0
LOCATION:
ORGANIZER:
SEQUENCE:1
SUMMARY:ContempArabic Jazz Ensemble
TRANSP:OPAQUE
URL:https://www.esse.bar/index.php/veranstaltungen/vergangene-veranstaltung
 en/1646-patrick-joray-quintet-feat-raphael-jost-elmar-frey-2/2022-11-10-20
 -15
END:VEVENT
END:VCALENDAR
