BEGIN:VCALENDAR
VERSION:2.0
PRODID:-//ESSE Musicbar Winterthur//NONSGML kigkonsult.se iCalcreator 2.41.92//
CALSCALE:GREGORIAN
METHOD:PUBLISH
UID:33393065-3036-4131-b032-616333306138
X-WR-CALNAME:iCagenda
X-WR-CALDESC:Event Management Extension for Joomla!
X-WR-RELCALID:3E26604A-50F4-4449-8B3E-E4F4932D05B5
X-WR-TIMEZONE:Europe/Zurich
BEGIN:VTIMEZONE
TZID:Europe/Zurich
TZUNTIL:20241027T010000Z
BEGIN:STANDARD
TZNAME:CET
DTSTART:20221030T030000
TZOFFSETFROM:+0200
TZOFFSETTO:+0100
RDATE:20231029T030000
END:STANDARD
BEGIN:DAYLIGHT
TZNAME:CEST
DTSTART:20220327T020000
TZOFFSETFROM:+0100
TZOFFSETTO:+0200
RDATE:20230326T020000
RDATE:20240331T020000
END:DAYLIGHT
END:VTIMEZONE
BEGIN:VEVENT
UID:38393934-6631-4435-a564-356334336262
DTSTAMP:20260419T195252Z
CATEGORIES:Spezial-Anlass mit Eintritt
CLASS:PUBLIC
DESCRIPTION;ALTREP="CID:<FFFF__=0ABBE548DFE235B58f9e8a93d@coffeebean.com>":
 Spezialkonzert Eintrittspreis 45.– / 40.–\n1 Musiker – 10 Instrumente\nNac
 h 50 Jahren\, über 15 CDs und unzähligen Konzerten auf Schweizer- und inte
 rnationalen Bühnen hält der Ausnahme-Gitarrist Max Lässer Rückschau.\nAuf 
 verschiedenen Saiteninstrumenten wie Mandoline\, Lauda\, Dobro\, Lap Steel
 s und Gitarren aller Art erklingen Kompositionen aus den letzten Jahrzehnt
 en. Eine Art Retrospektive ohne Nostalgie\, ein Querschnitt der zur Gesamt
 schau seines vielseitigen Schaffens wird.\nVolksmusik aus dem Engadin und 
 Appenzell\, Folk und Blues\, Stücke aus der Jazz-Fusionzeiten mit seiner G
 ruppe «Ark»\, Slide-Klänge erinnern an seine längeren Aufenthalte in den U
 SA\, wie auch die langjährige Zusammenarbeit mit südafrikanischen Musikern
 \, die ihre Spuren hinterlassen haben. Dazu erzählt Max Lässer Geschichten
  zu Instrumenten und Menschen\, denen er in seinem Musikerleben begegnet i
 st.\nSo haben Sie Max Lässer noch nie gehört! 90 Minuten Musik für Herz un
 d Ohr!\nhttps://www.maxlaesser.com
DTSTART:20221112T191500Z
DTEND:20221112T191500Z
GEO:00;0
LOCATION:
ORGANIZER:
SEQUENCE:1
SUMMARY:Max Lässer – Solostunde
TRANSP:OPAQUE
URL:https://www.esse.bar/index.php/veranstaltungen/vergangene-veranstaltung
 en/1647-max-laesser-solostunde-2/2022-11-12-20-15
END:VEVENT
END:VCALENDAR
