BEGIN:VCALENDAR
VERSION:2.0
PRODID:-//ESSE Musicbar Winterthur//NONSGML kigkonsult.se iCalcreator 2.41.92//
CALSCALE:GREGORIAN
METHOD:PUBLISH
UID:37653131-6138-4331-a638-343763363239
X-WR-CALNAME:iCagenda
X-WR-CALDESC:Event Management Extension for Joomla!
X-WR-RELCALID:3E26604A-50F4-4449-8B3E-E4F4932D05B5
X-WR-TIMEZONE:Europe/Zurich
BEGIN:VTIMEZONE
TZID:Europe/Zurich
TZUNTIL:20241027T010000Z
BEGIN:STANDARD
TZNAME:CET
DTSTART:20221030T030000
TZOFFSETFROM:+0200
TZOFFSETTO:+0100
RDATE:20231029T030000
END:STANDARD
BEGIN:DAYLIGHT
TZNAME:CEST
DTSTART:20220327T020000
TZOFFSETFROM:+0100
TZOFFSETTO:+0200
RDATE:20230326T020000
RDATE:20240331T020000
END:DAYLIGHT
END:VTIMEZONE
BEGIN:VEVENT
UID:33383263-3032-4535-b439-323832393065
DTSTAMP:20260419T181918Z
CATEGORIES:Jazz
CLASS:PUBLIC
DESCRIPTION;ALTREP="CID:<FFFF__=0ABBE548DFE235B58f9e8a93d@coffeebean.com>":
 Die Formation «Mixed Talents» aus Winterthur besteht bereits seit vielen J
 ahren und spielt bekannte Titel aus dem Great American Songbook – Jazz-Sta
 ndards\, Bossa Nova und Bebop.\nDas sorgfältig arrangierte Programm des Se
 xtetts verspricht einen abwechslungsreichen Abend!\nAndreas Baumann (ts)\,
  Dieter Köller (as)\, Jürg Graf (p)\, Jack Heaton (g)\, Ernst Schedler (b)
 \, Urs Heck (dr)
DTSTART:20221202T191500Z
DTEND:20221202T191500Z
GEO:00;0
LOCATION:
ORGANIZER:
SEQUENCE:1
SUMMARY:Mixed Talents
TRANSP:OPAQUE
URL:https://www.esse.bar/index.php/veranstaltungen/vergangene-veranstaltung
 en/1650-bluescht-3/2022-12-02-20-15
END:VEVENT
END:VCALENDAR
