BEGIN:VCALENDAR
VERSION:2.0
PRODID:-//ESSE Musicbar Winterthur//NONSGML kigkonsult.se iCalcreator 2.41.92//
CALSCALE:GREGORIAN
METHOD:PUBLISH
UID:64643361-3434-4737-b230-663030646331
X-WR-CALNAME:iCagenda
X-WR-CALDESC:Event Management Extension for Joomla!
X-WR-RELCALID:3E26604A-50F4-4449-8B3E-E4F4932D05B5
X-WR-TIMEZONE:Europe/Zurich
BEGIN:VTIMEZONE
TZID:Europe/Zurich
TZUNTIL:20241027T010000Z
BEGIN:STANDARD
TZNAME:CET
DTSTART:20221030T030000
TZOFFSETFROM:+0200
TZOFFSETTO:+0100
RDATE:20231029T030000
END:STANDARD
BEGIN:DAYLIGHT
TZNAME:CEST
DTSTART:20220327T020000
TZOFFSETFROM:+0100
TZOFFSETTO:+0200
RDATE:20230326T020000
RDATE:20240331T020000
END:DAYLIGHT
END:VTIMEZONE
BEGIN:VEVENT
UID:65393830-3936-4836-b564-306533386263
DTSTAMP:20260419T182230Z
CATEGORIES:Jazz
CLASS:PUBLIC
DESCRIPTION;ALTREP="CID:<FFFF__=0ABBE548DFE235B58f9e8a93d@coffeebean.com>":
 Mit Franz Hellmüller an der Gitarre und Patrick Sommer am Bass\, beide lan
 gjährige Weggefährten von Tony Renold\, hat er sich hier eine Wunschformat
 ion zusammen-gestellt. Die Fabulierfreude und die Kunst der jazzigen Dialo
 gik\, die diese drei aussergewöhnlichen Musiker beherrschen\, beschert dem
  Publikum eine spannende und auch humorvolle Klangreise. Die Musik stammt 
 aus der Feder von Tony Renold\, angereichert mit fesselnden Arrangements a
 us dem Great American Songbook.\nAls feinfühliger Perkussionist versteht e
 s Tony Renold\, die Fieberkurve der Expressivität empathisch mitzuzeichnen
 . Manchmal reduziert er seine Begleitung auf wenige\, sichere Impulse\; da
 nn wiederum zieht er Solisten mit schlauen trommlerischen Einfällen in ein
 en lockeren Dialog. Diese einladende Spielweise teilen auch Franz Hellmüll
 er und Patrick Sommer. Wir hören hier eine Band\, die beweist\, dass die W
 armherzigkeit der Musiker einen Konzertabend verzaubern kann.\nFranz Hellm
 üller (g)\, Patrick Sommer (db)\, Tony Renold (drums)\nhttp://www.tonyreno
 ld.chhttps://www.patricksommer.nethttp://www.hellmuller.com
DTSTART:20221215T191500Z
DTEND:20221215T191500Z
GEO:00;0
LOCATION:
ORGANIZER:
SEQUENCE:1
SUMMARY:Tony Renold Trio
TRANSP:OPAQUE
URL:https://www.esse.bar/index.php/veranstaltungen/vergangene-veranstaltung
 en/1651-bluescht-4/2022-12-15-20-15
END:VEVENT
END:VCALENDAR
