BEGIN:VCALENDAR
VERSION:2.0
PRODID:-//ESSE Musicbar Winterthur//NONSGML kigkonsult.se iCalcreator 2.41.92//
CALSCALE:GREGORIAN
METHOD:PUBLISH
UID:33386235-6533-4436-b166-326565356562
X-WR-CALNAME:iCagenda
X-WR-CALDESC:Event Management Extension for Joomla!
X-WR-RELCALID:3E26604A-50F4-4449-8B3E-E4F4932D05B5
X-WR-TIMEZONE:Europe/Zurich
BEGIN:VTIMEZONE
TZID:Europe/Zurich
TZUNTIL:20240331T010000Z
BEGIN:STANDARD
TZNAME:CET
DTSTART:20211031T030000
TZOFFSETFROM:+0200
TZOFFSETTO:+0100
RDATE:20221030T030000
RDATE:20231029T030000
END:STANDARD
BEGIN:DAYLIGHT
TZNAME:CEST
DTSTART:20220327T020000
TZOFFSETFROM:+0100
TZOFFSETTO:+0200
RDATE:20230326T020000
END:DAYLIGHT
END:VTIMEZONE
BEGIN:VEVENT
UID:33353935-6335-4365-a134-636662323734
DTSTAMP:20260419T212653Z
CATEGORIES:Jazz
CLASS:PUBLIC
DESCRIPTION;ALTREP="CID:<FFFF__=0ABBE548DFE235B58f9e8a93d@coffeebean.com>":
 Von Ella zu Adele\, von Louis zu Elvis\, von Sousa’s Band zu den Beatles\,
  das farbige\, abwechslungsreiche Programm von «Bernold’s Five» lässt mit 
 seinem bunten Panoptikum von Songs verblichene Zeiten für einen kurzen Mom
 ent wieder aufleben. Die Bernolds sind in ihrer Interpretation fest im Jaz
 z verwurzelt – immer unterhaltend\, witzig und stilbewusst.\n«Bernold’s Fi
 ve» ist eine Band erfahrener Musiker\, die seit Jahren in vielen erfolgrei
 chen Formationen in der ganzen Schweiz auftreten. Jedes Mitglied hat seine
 n Stil und seine Lieblingsmusik ins Projekt eingebracht. So ist die Band k
 einem bestimmten Genre verpflichtet\, sondern orientiert sich ausschliessl
 ich an der Qualität und Originalität der Musik. Sie bleibt dabei inspirier
 t von der Freiheit und Kreativität des Jazz.\nDenise Steinegger (bs)\, Phi
 lipp Rellstab (tp\, flh)\, Christoph Hegi (p)\, Hanspeter Künzle (db)\, Th
 omas Bernold (dr)
DTSTART:20220915T181500Z
DTEND:20220915T181500Z
GEO:00;0
LOCATION:
ORGANIZER:
SEQUENCE:1
SUMMARY:Bernold's Five
TRANSP:OPAQUE
URL:https://www.esse.bar/index.php/veranstaltungen/vergangene-veranstaltung
 en/1652-bernold-s-five-2/2022-09-15-20-15
END:VEVENT
END:VCALENDAR
