BEGIN:VCALENDAR
VERSION:2.0
PRODID:-//ESSE Musicbar Winterthur//NONSGML kigkonsult.se iCalcreator 2.41.92//
CALSCALE:GREGORIAN
METHOD:PUBLISH
UID:63323562-6664-4831-b764-396237336339
X-WR-CALNAME:iCagenda
X-WR-CALDESC:Event Management Extension for Joomla!
X-WR-RELCALID:3E26604A-50F4-4449-8B3E-E4F4932D05B5
X-WR-TIMEZONE:Europe/Zurich
BEGIN:VTIMEZONE
TZID:Europe/Zurich
TZUNTIL:20241027T010000Z
BEGIN:STANDARD
TZNAME:CET
DTSTART:20211031T030000
TZOFFSETFROM:+0200
TZOFFSETTO:+0100
RDATE:20221030T030000
RDATE:20231029T030000
END:STANDARD
BEGIN:DAYLIGHT
TZNAME:CEST
DTSTART:20220327T020000
TZOFFSETFROM:+0100
TZOFFSETTO:+0200
RDATE:20230326T020000
RDATE:20240331T020000
END:DAYLIGHT
END:VTIMEZONE
BEGIN:VEVENT
UID:66383566-3662-4264-b032-646165386534
DTSTAMP:20260419T200327Z
CATEGORIES:Jazz
CLASS:PUBLIC
DESCRIPTION;ALTREP="CID:<FFFF__=0ABBE548DFE235B58f9e8a93d@coffeebean.com>":
 Sie stand schon immer ganz oben auf seinem Wunschzettel\, die Trio-Besetzu
 ng mit Gitarre\, Orgel und Schlagzeug. Nach einigen Jahren intensiver Arbe
 it vorwiegend als Solist und in Duo-Formationen hat der mittlerweile in de
 r deutschen Jazzgitarristen-Szene etablierte Wahlkonstanzer Manfred Junker
  2017 Nägel mit Köpfen gemacht\, dieses wunderbar harmonierende Dreigestir
 n zusammengestellt.\nMit Thomas Bauser an der Orgel und Tony Renold am Sch
 lagzeug zelebriert das «Manfred Junker Organ Trio» alle Spielarten dieses 
 facettenreichen Lineups\, wandelnd zwischen raffinierter Komposition und i
 deenreicher Improvisation\, wuchtiger Dichte und perlender Transparenz\, l
 yrischer Melancholie und zupackendem Groove.\nSchon von der hochkarätigen 
 Besetzung geht ein besonderer Reiz aus. Hier wirkt nichts zufällig oder un
 passend. Manfred Junker\, Thomas Bauser und Tony Renold präsentieren die e
 xklusiv für dieses Trio komponierten Stücke mit beeindruckender Leichtigke
 it. Frisch und verspielt ohne jede Strenge ist hier eindeutig Musik-Genuss
  angezeigt. Anspruchsvoller Jazz einmal abseits von Trompete oder Saxophon
 .\nManfred Junker (g)\, Thomas Bauser (org)\, Tony Renold (dr)\nhttps://ww
 w.manfredjunker.com/organ-trio/http://www.thomasbauser.dehttp://www.tonyre
 nold.ch
DTSTART:20221027T181500Z
DTEND:20221027T181500Z
GEO:00;0
LOCATION:
ORGANIZER:
SEQUENCE:1
SUMMARY:Manfred Junker Organ Trio
TRANSP:OPAQUE
URL:https://www.esse.bar/index.php/veranstaltungen/vergangene-veranstaltung
 en/1653-manfred-junker-organ-trio-2/2022-10-27-20-15
END:VEVENT
END:VCALENDAR
