BEGIN:VCALENDAR
VERSION:2.0
PRODID:-//ESSE Musicbar Winterthur//NONSGML kigkonsult.se iCalcreator 2.41.92//
CALSCALE:GREGORIAN
METHOD:PUBLISH
UID:33353033-3963-4633-b066-663736653131
X-WR-CALNAME:iCagenda
X-WR-CALDESC:Event Management Extension for Joomla!
X-WR-RELCALID:3E26604A-50F4-4449-8B3E-E4F4932D05B5
X-WR-TIMEZONE:Europe/Zurich
BEGIN:VTIMEZONE
TZID:Europe/Zurich
TZUNTIL:20241027T010000Z
BEGIN:STANDARD
TZNAME:CET
DTSTART:20221030T030000
TZOFFSETFROM:+0200
TZOFFSETTO:+0100
RDATE:20231029T030000
END:STANDARD
BEGIN:DAYLIGHT
TZNAME:CEST
DTSTART:20220327T020000
TZOFFSETFROM:+0100
TZOFFSETTO:+0200
RDATE:20230326T020000
RDATE:20240331T020000
END:DAYLIGHT
END:VTIMEZONE
BEGIN:VEVENT
UID:37333639-3731-4766-b965-633438323363
DTSTAMP:20260419T181456Z
CATEGORIES:Folk & More
CLASS:PUBLIC
DESCRIPTION;ALTREP="CID:<FFFF__=0ABBE548DFE235B58f9e8a93d@coffeebean.com>":
 Brambus Records präsentiert:\nBeppe Gambetta ist ein italienischer Liederm
 acher\, der die italienischen und amerikanischen Traditionen zusammenbring
 t. Aufgewachsen in der Hafenstadt Genua und grossgeworden mit amerikanisch
 em Flatpicking-Gitarrenspiel hat Gambetta seinen Stil gefunden. Mit Amerik
 a im Herzen und Wurzeln an der Mittelmeerküste\, trifft bei Gambetta ligur
 ische Tradition auf Einwander-Balladen aus Übersee. Seine Musik ist unterw
 egs und schert sich weder um Grenzen noch Trennungen. Sie ist vital\, leid
 enschaftlich und klar\, sie blickt stolz zurück und zuversichtlich nach vo
 rne.\nEr erzählt in den vorwiegend autobiografischen Liedern von seiner Fa
 milie und seiner Heimatstadt Genua\, sein Leben als Musiker on the road\, 
 seinen musikalischen Vorbildern und von der Liebe seines Lebens. Beppe Gam
 betta verzaubert sein Publikum mit gefühlvollen Songs und seinen amüsanten
  Geschichten. Nicht zuletzt diese Kurzgeschichten garantieren einen humorv
 ollen Abend\, vor allem dank der Tatsache\, dass Beppe sein gesamtes Progr
 amm in wunderbarem Deutsch moderiert. Und dann ist da natürlich noch sein 
 grossartiges Gitarrenspiel – er ist nunmal einer der besten Plektronspiele
 r weltweit.\nwww.beppegambetta.com
DTSTART:20221127T183000Z
DTEND:20221127T183000Z
GEO:00;0
LOCATION:
ORGANIZER:
SEQUENCE:1
SUMMARY:Beppe Gambetta
TRANSP:OPAQUE
URL:https://www.esse.bar/index.php/veranstaltungen/vergangene-veranstaltung
 en/1655-beppe-gambetta-2/2022-11-27-19-30
END:VEVENT
END:VCALENDAR
