BEGIN:VCALENDAR
VERSION:2.0
PRODID:-//ESSE Musicbar Winterthur//NONSGML kigkonsult.se iCalcreator 2.41.92//
CALSCALE:GREGORIAN
METHOD:PUBLISH
UID:66313364-6638-4331-b039-303562343930
X-WR-CALNAME:iCagenda
X-WR-CALDESC:Event Management Extension for Joomla!
X-WR-RELCALID:3E26604A-50F4-4449-8B3E-E4F4932D05B5
X-WR-TIMEZONE:Europe/Zurich
BEGIN:VTIMEZONE
TZID:Europe/Zurich
TZUNTIL:20240331T010000Z
BEGIN:STANDARD
TZNAME:CET
DTSTART:20211031T030000
TZOFFSETFROM:+0200
TZOFFSETTO:+0100
RDATE:20221030T030000
RDATE:20231029T030000
END:STANDARD
BEGIN:DAYLIGHT
TZNAME:CEST
DTSTART:20220327T020000
TZOFFSETFROM:+0100
TZOFFSETTO:+0200
RDATE:20230326T020000
END:DAYLIGHT
END:VTIMEZONE
BEGIN:VEVENT
UID:63353032-3837-4266-b464-386464633330
DTSTAMP:20260419T201000Z
CATEGORIES:Folk & More
CLASS:PUBLIC
DESCRIPTION;ALTREP="CID:<FFFF__=0ABBE548DFE235B58f9e8a93d@coffeebean.com>":
 Brambus Records präsentiert: Brent Moyer – «Song Rider»\nFür den 'Global C
 owboy' Brent Moyer gibt es keine Rast und Ruhe. Bereits das neunte Album v
 eröffentlicht er im traditionsreichen Hause Brambus Records mit Sitz in Ch
 ur. Für den vielseitigen Singer/Songwriter\, der schon mit vielen bekannte
 n Künstlern auf der Bühne stand\, vom Country-Star Willie Nelson bis hin z
 ur Pop Diva Donna Summer\, der jahrelang als Gitarrist mit der Country Leg
 ende Lynn Anderson zusammen auftrat und der als Darsteller der Broadway-Sh
 ow 'Ring oh Fire' mitwirkte\, gibt es keine Grenzen und Hindernisse\, um i
 n die (Un)tiefen der menschlichen und musikalischen Erfahrungswelt vorzudr
 ingen. Seinen Status als globaler Cowboy bestätigte er unter anderem bei s
 einem Auftritt für die World Nomad Games in Kyrgyzstan im Herbst 2018.\nDe
 r in Wyoming aufgewachsene Brent Moyer veröffentlicht auf «Song Rider» 14 
 neue Songs. Der Opener “Just Passing Through” auf Song Rider ist wie ein B
 lick in den Rückspiegel\, der die Drehungen und Wendungen des Lebens aufze
 igt. In “The Radio“ erinnert er sich an die Tage\, als zum ersten Mal Musi
 k mit einem alten Radio hörte. Das Album enthält einen schönen Mix von Moy
 ers Eigenkompositionen. Country Swing\, Balladen und die wunderschöne Inst
 rumentalnummer “Easter Rain”. Vordergründige Effekte sind dabei nicht sein
  Ding\, er überzeugt vielmehr durch aufeinander abgestimmte Musik und Text
 e.\nSo ist «Song Rider» eine zeitlos unspektakuläre\, aber gehaltvolle Sch
 eibe geworden\, und wer Moyer noch nicht kennt\, jedoch mit offenen Ohren 
 durch die Welt geht\, kann hier eine erfreuliche Entdeckung machen.\nFreue
 n wir uns auf die Rückkehr des Global Cowboys nach Winterthur.\nBrent Moye
 r (g\, voc)\nhttps://brent-moyer.com
DTSTART:20220925T173000Z
DTEND:20220925T173000Z
GEO:00;0
LOCATION:
ORGANIZER:
SEQUENCE:1
SUMMARY:Brent Moyer – «Song Rider»
TRANSP:OPAQUE
URL:https://www.esse.bar/index.php/veranstaltungen/vergangene-veranstaltung
 en/1656-brent-moyer-song-rider-2/2022-09-25-19-30
END:VEVENT
END:VCALENDAR
