BEGIN:VCALENDAR
VERSION:2.0
PRODID:-//ESSE Musicbar Winterthur//NONSGML kigkonsult.se iCalcreator 2.41.92//
CALSCALE:GREGORIAN
METHOD:PUBLISH
UID:37346163-6163-4433-a237-633065363864
X-WR-CALNAME:iCagenda
X-WR-CALDESC:Event Management Extension for Joomla!
X-WR-RELCALID:3E26604A-50F4-4449-8B3E-E4F4932D05B5
X-WR-TIMEZONE:Europe/Zurich
BEGIN:VTIMEZONE
TZID:Europe/Zurich
TZUNTIL:20240331T010000Z
BEGIN:STANDARD
TZNAME:CET
DTSTART:20211031T030000
TZOFFSETFROM:+0200
TZOFFSETTO:+0100
RDATE:20221030T030000
RDATE:20231029T030000
END:STANDARD
BEGIN:DAYLIGHT
TZNAME:CEST
DTSTART:20220327T020000
TZOFFSETFROM:+0100
TZOFFSETTO:+0200
RDATE:20230326T020000
END:DAYLIGHT
END:VTIMEZONE
BEGIN:VEVENT
UID:66313839-6430-4561-b964-646330633965
DTSTAMP:20260419T195730Z
CATEGORIES:Folk & More
CLASS:PUBLIC
DESCRIPTION;ALTREP="CID:<FFFF__=0ABBE548DFE235B58f9e8a93d@coffeebean.com>":
 Sounds from the Grisons #1 | Spezialkonzert mit Eintritt CHF 40.– / 35.–\n
 «La Triada» - neue alte Lieder mit Corin Curschellas\, Astrid Alexandre un
 d Ursina Giger.\nCorin Curschellas\, die „grande dame“ des Rätoromanischen
  Volksliedes hat sich mit «La Triada» den lang gehegten Wunsch eines Vocal
 -Ensembles erfüllt. Die drei hochkarrätigen Sängerinnen arrangieren und in
 terpretieren die teils bekannten\, teils verschollenen traditionellen Lied
 er auf höchst persönliche\, originelle Art und Weise.\nAstrid Alexandre\, 
 Ursina Giger und Corin Curschellas tun dies feinfühlig\, respektvoll\, mit
  herzhaftem Witz\, Spielfreude und in höchster musikalischer Qualität. Die
  drei Vokalistinnen von «La Triada» nehmen den Faden althergebrachter Trad
 itionen auf und verweben ihn zu einem aktuellen frischen Lied-Stoff! A cap
 ella und in fünf Idiomen erfährt der Liedschatz der Rumantschia durch dies
 e Neuinterpretationen eine Verjüngungskur\, da die Sängerinnen sich gern i
 nspirieren lassen von der Musik anderer Kulturen und von zeitgemässen musi
 kalischen Elementen.\nAlt und Neu\, archaisch und modern\, Gewohntes und U
 nerwartetes\, Harmonie und Dissonanz plus inspirierte Improvisation\, verl
 eihen den Liedern neuen Glanz. Die Stimmen verschmelzen zu einem Vielklang
  an urtümlicher Kraft und Energie. Da die drei Sängerinnen jeweilen die In
 halte und Hintergründe zu den Liedern erzählend erklären\, sind die Konzer
 te auch für Sprachunkundige ein hoher und ungetrübter Genuss.\nCorin Cursc
 hellas (voc)\, Astrid Alexandre (voc)\, Ursina Giger (voc)\nhttps://www.co
 rin.ch/new-projects/la-triada/https://latriada.ch\n(Foto: Slava Hlavacek)
DTSTART:20220928T181500Z
DTEND:20220928T181500Z
GEO:00;0
LOCATION:
ORGANIZER:
SEQUENCE:1
SUMMARY:Corin Curschellas\, Ursina Giger & Astrid Alexandre - «La Triada»
TRANSP:OPAQUE
URL:https://www.esse.bar/index.php/veranstaltungen/vergangene-veranstaltung
 en/1657-la-triada-chantinadas/2022-09-28-20-15
END:VEVENT
END:VCALENDAR
