BEGIN:VCALENDAR
VERSION:2.0
PRODID:-//ESSE Musicbar Winterthur//NONSGML kigkonsult.se iCalcreator 2.41.92//
CALSCALE:GREGORIAN
METHOD:PUBLISH
UID:31633438-6664-4130-b430-313861363832
X-WR-CALNAME:iCagenda
X-WR-CALDESC:Event Management Extension for Joomla!
X-WR-RELCALID:3E26604A-50F4-4449-8B3E-E4F4932D05B5
X-WR-TIMEZONE:Europe/Zurich
BEGIN:VTIMEZONE
TZID:Europe/Zurich
TZUNTIL:20240331T010000Z
BEGIN:STANDARD
TZNAME:CET
DTSTART:20211031T030000
TZOFFSETFROM:+0200
TZOFFSETTO:+0100
RDATE:20221030T030000
RDATE:20231029T030000
END:STANDARD
BEGIN:DAYLIGHT
TZNAME:CEST
DTSTART:20220327T020000
TZOFFSETFROM:+0100
TZOFFSETTO:+0200
RDATE:20230326T020000
END:DAYLIGHT
END:VTIMEZONE
BEGIN:VEVENT
UID:33376432-3631-4838-a462-303039356363
DTSTAMP:20260419T214328Z
CATEGORIES:Jazz
CLASS:PUBLIC
DESCRIPTION;ALTREP="CID:<FFFF__=0ABBE548DFE235B58f9e8a93d@coffeebean.com>":
 Der Pianist Robert “Robi” Szakcsi Lakatos entstammt einer ungarischen Klav
 ierdynastie. Um das Jahr 2000 lebte er in Basel\, wo er mit Fabian Gisler 
 (db) und Dominic Egli (dr) ein Trio gründete. Ihre zahlreichen Konzerte in
  und um den Bird’s Eye Jazzclub Basel führte zu einer Empfehlung des Produ
 zenten von Radio SRF Kultur an das japanische Label Atelier Sawano\, auf d
 em das Trio 2005 «So In Love» (mehr als 10'000 verkaufte Exemplare) und 20
 07 «Never Let Me Go» (Silver Award für ausgezeichneten Klang im Japanische
 n Magazin «Jazz Critique Review») veröffentlichte.\nNach seinem Umzug nach
  Budapest ging Lakatos’ bemerkenswerte Karriere weiter\, er spielte mit de
 n grossen Namen des aktuellen Jazz (Jack DeJohnette\, John Patittucci\, Ro
 bert Hurst\, Lewis Nash\, Ravi Coltrane...)\, veröffentlichte mehrere Albe
 n unter seinem Namen und ist ein gefragter Solist von klassischen Orcheste
 rn. «Der Anschlag des Pianisten ergibt eine faszinierende Synthese aus Lyr
 ik und Entschiedenheit\, Virtuosität und Feeling\, klassischer Schule und 
 jazziger Eigenständigkeit.»\nIm Herbst 2022 arbeitet das Trio erneut zusam
 men\, diesmal jedoch mit dem herausragenden Bassisten Raffaele Bossard. Da
 s Repertoire der Band mischt abenteuerliche Interpretationen des Great Ame
 rican Songbooks mit Lakatos’ atmoshärischen Kompositionen. Die Musik des T
 rios feiert den Moment und lebt ihn durch zeitlose Songs\, Lakatos’ warme\
 , einfallsreiche Virtuosität und das sensible\, kraftvolle Zusammenspiel d
 er drei Musiker.\nRobert Szakcsi Lakatos (p)\, Raffaele Bossard (db)\, Dom
 inic Egli (dr)\nhttps://www.reverbnation.com/robertlakatoshttps://www.raff
 aelebossard.comhttp://www.dominicegli.ch/site/index.php
DTSTART:20220907T181500Z
DTEND:20220907T181500Z
GEO:00;0
LOCATION:
ORGANIZER:
SEQUENCE:1
SUMMARY:Lakatos / Bossard / Egli
TRANSP:OPAQUE
URL:https://www.esse.bar/index.php/veranstaltungen/vergangene-veranstaltung
 en/1659-lakatos-bossard-egli/2022-09-07-20-15
END:VEVENT
END:VCALENDAR
