BEGIN:VCALENDAR
VERSION:2.0
PRODID:-//ESSE Musicbar Winterthur//NONSGML kigkonsult.se iCalcreator 2.41.92//
CALSCALE:GREGORIAN
METHOD:PUBLISH
UID:33303536-3564-4730-b965-336164346233
X-WR-CALNAME:iCagenda
X-WR-CALDESC:Event Management Extension for Joomla!
X-WR-RELCALID:3E26604A-50F4-4449-8B3E-E4F4932D05B5
X-WR-TIMEZONE:Europe/Zurich
BEGIN:VTIMEZONE
TZID:Europe/Zurich
TZUNTIL:20240331T010000Z
BEGIN:STANDARD
TZNAME:CET
DTSTART:20211031T030000
TZOFFSETFROM:+0200
TZOFFSETTO:+0100
RDATE:20221030T030000
RDATE:20231029T030000
END:STANDARD
BEGIN:DAYLIGHT
TZNAME:CEST
DTSTART:20220327T020000
TZOFFSETFROM:+0100
TZOFFSETTO:+0200
RDATE:20230326T020000
END:DAYLIGHT
END:VTIMEZONE
BEGIN:VEVENT
UID:30356263-6163-4936-a333-303938393064
DTSTAMP:20260419T214444Z
CATEGORIES:Jazz
CLASS:PUBLIC
DESCRIPTION;ALTREP="CID:<FFFF__=0ABBE548DFE235B58f9e8a93d@coffeebean.com>":
 Die Winterthurer Konzertreihe feiert die vielfältigen Facetten des Jazz au
 f der Bühne der ESSE Musicbar. Andreas Zitz (Kontrabass) und Christian Rös
 li (Piano) portraitieren zusammen mit ihren Gästen einmal im Monat an eine
 m Themenabend Musiker:innen\, Komponist:innen\, ein Album oder eine Stil/Z
 eit-Epoche aus dem Universum des Jazz.\nFür ihre mittlerweile bereits 15. 
 Ausgabe haben die beiden gleich zwei spannende Künstler:innen eingeladen:
 \nDaniela Sarda\, die in der Schweiz aufgewachsenen Sängerin mit sardisch/
 sizilianischen Wurzeln ist bereits seit vielen Jahren mit ihren Bands «Sar
 da» und «True» unterwegs. Immer wieder gelingt ihr der Spagat zwischen ita
 lienischen Canzoni\, Jazz und elektronischer Popmusik. Letzten Herbst stan
 d sie neben Büne Huber für die MTV Unplugged Tour auf den grössten Schweiz
 er Bühnen. Ihre warmherzige Stimme lässt sie aber am liebsten im kleinen R
 ahmen erklingen\, mit viel semplicità und emozioni.\nDer Saxophonist Reto 
 Suhner wirkt in den verschiedensten Formationen von Duo bis Jazz Orchestra
  mit. Wichtig ist Suhner das unplanbare Moment des musikalischen Dialogs w
 elcher auf der Improvisation basiert. Hier wird Spannung erzeugt\, hier en
 tstehen neue Klänge\, hier werden Geschichten erzählt.\nEr spielt folgende
  Saxofone: Alto\, Straight Alto\, Soprano\, Tenor\, Bariton\, C-Melody Ten
 or\, Bass\; folgende Flöten: Piccolo\, C Querflöte\, Altquerflöte\, Bansur
 i\, Xiao\, Dizi\, Hulusi\, Nai\, Kaval\; folgende Klarinetten: Eb\, Bb\, A
 lto\, Bass\, Kontra Alto\; Duduk\, Reed Trumpet\, Theremin\, Zurna.\nChris
 tian Rösli (p)\, Andreas Zitz (db)\, Special Guests: Daniela Sarda (voc)\,
  Reto Suhner (ss\, as\, ts\, cl\, fl)\nhttp://www.sardamusic.chhttps://www
 .retosuhner.com\n 
DTSTART:20220916T181500Z
DTEND:20220916T181500Z
GEO:00;0
LOCATION:
ORGANIZER:
SEQUENCE:1
SUMMARY:Don’t Forget The Poets #15 – Daniela Sarda & Reto Suhner
TRANSP:OPAQUE
URL:https://www.esse.bar/index.php/veranstaltungen/vergangene-veranstaltung
 en/1661-don-t-forget-the-poets-15-reto-suhner/2022-09-16-20-15
END:VEVENT
END:VCALENDAR
