BEGIN:VCALENDAR
VERSION:2.0
PRODID:-//ESSE Musicbar Winterthur//NONSGML kigkonsult.se iCalcreator 2.41.92//
CALSCALE:GREGORIAN
METHOD:PUBLISH
UID:61396364-6462-4962-a436-306361303234
X-WR-CALNAME:iCagenda
X-WR-CALDESC:Event Management Extension for Joomla!
X-WR-RELCALID:3E26604A-50F4-4449-8B3E-E4F4932D05B5
X-WR-TIMEZONE:Europe/Zurich
BEGIN:VTIMEZONE
TZID:Europe/Zurich
TZUNTIL:20240331T010000Z
BEGIN:STANDARD
TZNAME:CET
DTSTART:20211031T030000
TZOFFSETFROM:+0200
TZOFFSETTO:+0100
RDATE:20221030T030000
RDATE:20231029T030000
END:STANDARD
BEGIN:DAYLIGHT
TZNAME:CEST
DTSTART:20220327T020000
TZOFFSETFROM:+0100
TZOFFSETTO:+0200
RDATE:20230326T020000
END:DAYLIGHT
END:VTIMEZONE
BEGIN:VEVENT
UID:65326330-3237-4564-a264-363033333634
DTSTAMP:20260419T211602Z
CATEGORIES:Jazz
CLASS:PUBLIC
DESCRIPTION;ALTREP="CID:<FFFF__=0ABBE548DFE235B58f9e8a93d@coffeebean.com>":
 Bereit für etwas Neues? Willkommen im «Wolkenpark»! Die Metapher beschreib
 t den Sound des Schweizer Musikerquartetts ziemlich treffend! Die Band spi
 elt ihre eigenen Kompositionen mit einer attraktiven Mischung aus modernen
  Clubstilen\, Funk\, Ambient\, Chillout und Drum'n'Bass. All das wird zu i
 hrer jazzigen Originalmarke namens «Urban Hybrid Sounds».\nAlle Musiker ha
 ben einen Jazzhintergrund (drei der Jungs unterrichten an Schweizer Jazzsc
 hulen) und beeindrucken mit fiesen Grooves\, die Synthesizer-Sounds\, Live
 -Loops und Effekte mit dem akustischen Sound ihrer Instrumente mischen – T
 rompete (Kriz Flueler)\, Rhodes (Julien Boss)\, E-Bass (Jean-Pierre Schall
 er) und Schlagzeug (Andy Brugger). Mit «Wolkenpark» vereinen sie ihre Erfa
 hrung\, seit den frühen Achtzigern Hunderte von Gigs in verschiedenen Komb
 inationen zusammen gespielt zu spielen. Wenn es jemals eine Mischung aus G
 lasper\, Zawinul\, Miles und Goldie gegeben hat – hier ist sie.\nWährend s
 ie während der Fesseln der Corona-Pandemie von der Bühne verbannt wurden (
 Verlust einer bereits geplanten Tour nach Russland im Jahr 2020)\, konzent
 rierten sich die Jungs auf die Studioarbeit und nahmen ihr erstes offiziel
 les Album auf. Die erste Single «Lazy Day» wurde am 10. Mai veröffentlicht
 \, gefolgt von «Move on for Real» feat. Rootwords\, während das Album dies
 en Herbst erscheinen wird.\nChristoph «Kriz Flew» Flueler (tp\, efx)\, Jul
 ien Boss (rhodes\, keyb\, efx)\, Jean-Pierre Schaller (eb)\, Andy Brugger 
 (dr) Special Guest: Julio Mwansa Nkowane aka «Rootwords» (rap &amp\; spoke
 n word)\nhttp://www.wolkenpark.com
DTSTART:20220923T181500Z
DTEND:20220923T181500Z
GEO:00;0
LOCATION:
ORGANIZER:
SEQUENCE:1
SUMMARY:Wolkenpark feat. Rootwords – «Urban Hybrid Sounds»
TRANSP:OPAQUE
URL:https://www.esse.bar/index.php/veranstaltungen/vergangene-veranstaltung
 en/1663-wolkenpark/2022-09-23-20-15
END:VEVENT
END:VCALENDAR
