BEGIN:VCALENDAR
VERSION:2.0
PRODID:-//ESSE Musicbar Winterthur//NONSGML kigkonsult.se iCalcreator 2.41.92//
CALSCALE:GREGORIAN
METHOD:PUBLISH
UID:61646531-3065-4262-b530-396236386663
X-WR-CALNAME:iCagenda
X-WR-CALDESC:Event Management Extension for Joomla!
X-WR-RELCALID:3E26604A-50F4-4449-8B3E-E4F4932D05B5
X-WR-TIMEZONE:Europe/Zurich
BEGIN:VTIMEZONE
TZID:Europe/Zurich
TZUNTIL:20241027T010000Z
BEGIN:STANDARD
TZNAME:CET
DTSTART:20211031T030000
TZOFFSETFROM:+0200
TZOFFSETTO:+0100
RDATE:20221030T030000
RDATE:20231029T030000
END:STANDARD
BEGIN:DAYLIGHT
TZNAME:CEST
DTSTART:20220327T020000
TZOFFSETFROM:+0100
TZOFFSETTO:+0200
RDATE:20230326T020000
RDATE:20240331T020000
END:DAYLIGHT
END:VTIMEZONE
BEGIN:VEVENT
UID:61323233-3465-4266-b634-346632393234
DTSTAMP:20260419T194951Z
CATEGORIES:Jazz
CLASS:PUBLIC
DESCRIPTION;ALTREP="CID:<FFFF__=0ABBE548DFE235B58f9e8a93d@coffeebean.com>":
 Mehr als 50 Jahre sind vergangen\, seit die Musik\, die wir als Jazz kenne
 n\, ihren Höhepunkt erreicht hat. Rückblickend wird deutlicher denn je\, d
 ass im Laufe seiner Geschichte ein roter Faden alle Stilrichtungen und Epo
 chen durchzog\, nämlich die lockere und entspannte Art\, mit der Phrasen g
 espielt werden\, dieses unverkennbare Markenzeichen des Jazz-Ethos.\nDas P
 hänomen der Jazzimprovisation vermag es\, Einflüsse anderer Musikstile zu 
 absorbieren\, die gewisse gemeinsame harmonische Grundlagen und Liedformen
  teilen\, wie z. B. einige aus Lateinamerika. Dieses Phänomen ist jedoch n
 icht mit einer musikalischen Mischbildung zu verwechseln\, bei der kulture
 ll nicht verwandte musikalische Elemente hauptsächlich aus experimentellen
  oder ideologischenGründen kombiniert werden.\nDas Erbe der letzten Period
 e der Jazzgeschichte liegt in der vollen Entwicklung von Harmonie\, Rhythm
 us und Liedform. Ein halbes Jahrhundert danach erlaubt uns dieses Wissen\,
  jedes Lied aus jeder Epoch der Jazzgeschichte wieder aufzugreifen und auf
  frische\, aber legitime Weise neu zu interpretieren.\nGeniessen Sie mit u
 ns!\nVince Benedetti\nBirgit Hauser (voc)\, Vince Benedetti (p)\nhttps://b
 irgithauser.ch https://www.doctorjazz.ch\n 
DTSTART:20221006T181500Z
DTEND:20221006T181500Z
GEO:00;0
LOCATION:
ORGANIZER:
SEQUENCE:1
SUMMARY:Vince Benedetti & Birgit Hauser – Two of a mind
TRANSP:OPAQUE
URL:https://www.esse.bar/index.php/veranstaltungen/vergangene-veranstaltung
 en/1664-birgit-hauser-vince-benedetti/2022-10-06-20-15
END:VEVENT
END:VCALENDAR
