BEGIN:VCALENDAR
VERSION:2.0
PRODID:-//ESSE Musicbar Winterthur//NONSGML kigkonsult.se iCalcreator 2.41.92//
CALSCALE:GREGORIAN
METHOD:PUBLISH
UID:37316236-3533-4231-b535-396362313738
X-WR-CALNAME:iCagenda
X-WR-CALDESC:Event Management Extension for Joomla!
X-WR-RELCALID:3E26604A-50F4-4449-8B3E-E4F4932D05B5
X-WR-TIMEZONE:Europe/Zurich
BEGIN:VTIMEZONE
TZID:Europe/Zurich
TZUNTIL:20241027T010000Z
BEGIN:STANDARD
TZNAME:CET
DTSTART:20211031T030000
TZOFFSETFROM:+0200
TZOFFSETTO:+0100
RDATE:20221030T030000
RDATE:20231029T030000
END:STANDARD
BEGIN:DAYLIGHT
TZNAME:CEST
DTSTART:20220327T020000
TZOFFSETFROM:+0100
TZOFFSETTO:+0200
RDATE:20230326T020000
RDATE:20240331T020000
END:DAYLIGHT
END:VTIMEZONE
BEGIN:VEVENT
UID:30366265-3536-4834-b630-656333646431
DTSTAMP:20260419T200641Z
CATEGORIES:Jazz
CLASS:PUBLIC
DESCRIPTION;ALTREP="CID:<FFFF__=0ABBE548DFE235B58f9e8a93d@coffeebean.com>":
 Jeder Ort ein Thema\, jede Ambience ein Abenteuer – die drei Musiker von «
 Rrrrr’» durchforsten vor jedem Auftritt ihre Plattensammlungen und graben 
 nach passenden Raritäten und persönlichen Classics.\nDaraus basteln sie ei
 ne ungefähre Wanderkarte\, die sie garantiert vom Weg abbringt. Ein Ausflu
 g ins noch Ungehörte. Ein gefühlvoller Balanceakt auf dem Grat zwischen Be
 kanntem und musikalischem Neuland. Das Knistern zwischen den Polen ist omn
 ipräsent. Sinnlich\, liebevoll\, zärtlich oder auch mutig\, engagiert\, of
 fen…\nUnd genau mit diesem Dreisprung fliegen die drei Musiker über die Kl
 ippe! Jazz mit Soul und viel Groove – für das Ohr\, aber auch für Bauch un
 d Beine: Rrrrr’\nMichael Bucher (g)\, Marc Jenny (db)\, Rolf Caflisch (dr)
 \nhttps://marcjenny.comhttps://www.michaelbucher.ch
DTSTART:20221007T181500Z
DTEND:20221007T181500Z
GEO:00;0
LOCATION:
ORGANIZER:
SEQUENCE:1
SUMMARY:Rrrrr' |  Jazz that moves your feet and soul
TRANSP:OPAQUE
URL:https://www.esse.bar/index.php/veranstaltungen/vergangene-veranstaltung
 en/1665-rrrrr/2022-10-07-20-15
END:VEVENT
END:VCALENDAR
