BEGIN:VCALENDAR
VERSION:2.0
PRODID:-//ESSE Musicbar Winterthur//NONSGML kigkonsult.se iCalcreator 2.41.92//
CALSCALE:GREGORIAN
METHOD:PUBLISH
UID:39666164-3561-4535-b866-396232353035
X-WR-CALNAME:iCagenda
X-WR-CALDESC:Event Management Extension for Joomla!
X-WR-RELCALID:3E26604A-50F4-4449-8B3E-E4F4932D05B5
X-WR-TIMEZONE:Europe/Zurich
BEGIN:VTIMEZONE
TZID:Europe/Zurich
TZUNTIL:20241027T010000Z
BEGIN:STANDARD
TZNAME:CET
DTSTART:20211031T030000
TZOFFSETFROM:+0200
TZOFFSETTO:+0100
RDATE:20221030T030000
RDATE:20231029T030000
END:STANDARD
BEGIN:DAYLIGHT
TZNAME:CEST
DTSTART:20220327T020000
TZOFFSETFROM:+0100
TZOFFSETTO:+0200
RDATE:20230326T020000
RDATE:20240331T020000
END:DAYLIGHT
END:VTIMEZONE
BEGIN:VEVENT
UID:62373962-3264-4531-b032-383765663633
DTSTAMP:20260419T195823Z
CATEGORIES:Folk & More
CLASS:PUBLIC
DESCRIPTION;ALTREP="CID:<FFFF__=0ABBE548DFE235B58f9e8a93d@coffeebean.com>":
 Ein ganz besonderer «Folk &amp\; More»-Sonntag steht an diesem Abend unter
  dem Motto «Lesung und Lieder» auf dem Programm. Mit dem erfolgreichen Mix
  aus Texten und Songs sind Herbert Mundschau und Ernst Schultz seit 2017 g
 emeinsam unterwegs.\nIm Grossraum Nürnberg traten Mundschau und Schultz in
  der Szene bereits an die fünfzig Mal gemeinsam auf. Im Leseteil gibt es\,
  sensibel vorgetragen\, aktuelle Satiren\, neue und alte Kurzgeschichten\,
  heikel\, hintergründig und humorvoll und das Ganze im Wechsel mit Songs q
 uer durch die 60er und 70er Jahre\, «Dylan deutsch»\, «Ihre Kinder» und ma
 nche lang nicht mehr gehörte Kuriosität vom Plattenteller. Allen Stücken v
 erleiht Schultz mit der Gitarre und einfühlsamem Gesang seine ganz eigene 
 Note…\nDazu setzt sich mit George Sterki - ein Urgestein der Frauenfelder 
 Rockszene - ans Keyboard und vor das Mikrophon. Sterki\, selbst kein Unbek
 annter in der Schweizer Rockmusikszene («George Sterki Group») organisiert
 e nicht nur die Gigs\, sondern wird höchstpersönlich in die Tasten greifen
  und gemeinsam mit Ernst Schultz Songs von «Ihre Kinder» und «Dylan Deutsc
 h» interpretieren. Die beiden Musiker-Routiniers haben eigens für den Auft
 ritt in der ESSE Winterthur in Schultz´ Musikzimmer in Nürnberg tagelang g
 earbeitet und an ihren Einsätzen gefeilt.\nFreuen Sie sich auf einen Abend
  mit Good Old Rock auf Deutsch und hören sie entspannt in die literarische
 n Zwischenstücke\, die der Nürnberger Autor Herbert Mundschau für Sie zusa
 mmengestellt hat.\nHerbert Mundschau (Texte)\, Ernst Schultz (voc\, g\, ha
 rp)\, George Sterki (keyb\, voc)\nhttps://herbertmundschau.jimdo.comhttps:
 //www.ernst-schultz.de\n\n\nInteressant zu wissen:\n«Ihre Kinder» (1969 – 
 1973) war eine deutsche Rockband der späten 1960er und vor allem der frühe
 n 1970er Jahre aus Nürnberg. Sie gilt als Pionier der deutschsprachigen Ro
 ckmusik und wird dem Krautrock zugeschrieben. Ihre Musik beinhaltete jedoc
 h Elemente aus klassischem Rock\, Folk und Jazzrock.\nDie Band gilt neben 
 «Ton Steine Scherben» als eine der ersten Rockgruppen\, die ausschliesslic
 h in deutscher Sprache sangen. Grössen wie Udo Lindenberg sollen sich ausd
 rücklich auf «Ihre Kinder» als Vorbild berufen haben.\nIm Oktober 2014 wur
 de die Band für ihre Pionierleistung\, anspruchsvolle deutsche Texte mit R
 ockmusik zu verbinden\, mit dem IHK-Kulturpreis für Literatur der Industri
 e- und Handelskammer Nürnberg für Mittelfranken ausgezeichnet.\nErnst Schu
 ltz (geb. 3. Oktober 1943) in Wreschen\, Wartheland\, heutiges Polen) ist 
 ein deutscher Komponist\, Musikproduzent\, Sänger\, Gitarrist und Keyboard
 er. Gemeinsam mit Sonny Henning war er eine der treibenden Kräfte der Nürn
 berger Rockband «Ihre Kinder». Über ihn ist viel geschrieben worden. Der G
 rafiker und Vollblutmusiker ist auch mit fast achtzig Jahren noch kein bis
 schen bühnenmüde geworden.\nUm nur einige der Bands herauszugreifen\, dere
 n Sound und Texte er seit den frühen Sechzigern geprägt hat: «Jonah and th
 e Whales»\, «Ihre Kinder» (!!!)\, «Kaminsky United»\, «Johnny Glizzer und 
 der blanke Neid» und natürlich «Die Wundertüte». Ein Klassiker mittlerweil
 e sein «Dylan-Deutsch»-Album und im Januar 2020 lief das Projekt «3xDylan»
  zum mittlerweile 12. Mal vor ausverkauftem Haus mit immer wieder neuen au
 sdrucksstarken Dylan-Interpretationen in englisch\, deutsch und fränkisch.
  Bei vielen Gelegenheiten hat Schultz auch die Verbindung von Literaturint
 erpretationen mit dem passenden musikalischen Rahmen gefunden\, u.a. in Pr
 oduktionen gemeinsam mit Holger Stamm oder beim Friedensprojekt mit seiner
  Tochter und der Wundertüte.\nHerbert MundschauErste literarische Arbeiten
  in den Siebzigern in der Nürnberger Sprachwerkstatt mit Lesungen und erst
 en Veröffentlichungen in Stadtmagazinen\, der Plakaterie und der Weissenbu
 rger Kanalpresse. Viele Jahre war er seither als Einkaufs-Manager an weltw
 eiten Standorten in der Automobilzuliefererindustrie tätig\, bis er vor we
 nigen Jahren wieder mit der Arbeit an verschiedenen Literaturprojekten beg
 ann. Heute lebt Mundschau\, mittlerweile achtundsechzig Jahre alt und Ruhe
 ständler\, wieder ganz in Nürnberg und hat seit 2015 14 Bücher mit untersc
 hiedlichen Schwerpunkten veröffentlicht (Erzählungen\, Short Stories\, Lyr
 ik und zwei Sammlungen von Kindergeschichten in seiner Schreibe).\n2018 wu
 rde er von der Jury unter die Top Ten bei der Vergabe des Fränkischen Krim
 ipreis des Ars Vivendi-Verlags nominiert. Im selben Jahr fand er mit Ernst
  Schulz (neben Sonny Hennig wichtigster Vertreter der ersten deutschsprach
 igen Rockband «Ihre Kinder» einen einfühlsamen Musiker\, der ihn bei seine
 n öffentlichen Lesungen begleitet.\nGeorge SterkiGeorge Sterki (Gesang\, K
 eyboards\, Schlagzeug\, Synthesizer) zählt zu den Urgesteinen der Frauenfe
 lder Rockszene und betrieb in den Siebzigern gemeinsam mit seinem Bruder L
 othar Sterki (Bassgitarre\, Leadgitarre) die «George Sterki Group». Begehr
 tes Sammlerstück aus jenen wilden Zeiten die Vinyl-Single «We Gonna Fly»\,
  damals herausgegeben auf «Womenfield»-Records.\nErst vor wenigen Monaten 
 stiess George Sterki auf das „kultige Duo“ (…so die regionale Tagespresse)
 . Als erklärter und eingefleischter «Ihre Kinder» Fan lud er die beiden zu
  einer Mini-Tournee in die Schweiz. Die zwei liessen sich nicht lange bitt
 en\, sondern begannen schon kurz darauf mit den Vorbereitungen.
DTSTART:20221009T173000Z
DTEND:20221009T173000Z
GEO:00;0
LOCATION:
ORGANIZER:
SEQUENCE:1
SUMMARY:Herbert Mundschau & Ernst Schultz («Ihre Kinder») – Lesung & Lieder
TRANSP:OPAQUE
URL:https://www.esse.bar/index.php/veranstaltungen/vergangene-veranstaltung
 en/1666-georg-sterki-band/2022-10-09-19-30
END:VEVENT
END:VCALENDAR
