BEGIN:VCALENDAR
VERSION:2.0
PRODID:-//ESSE Musicbar Winterthur//NONSGML kigkonsult.se iCalcreator 2.41.92//
CALSCALE:GREGORIAN
METHOD:PUBLISH
UID:37343630-3832-4430-b564-643661366431
X-WR-CALNAME:iCagenda
X-WR-CALDESC:Event Management Extension for Joomla!
X-WR-RELCALID:3E26604A-50F4-4449-8B3E-E4F4932D05B5
X-WR-TIMEZONE:Europe/Zurich
BEGIN:VTIMEZONE
TZID:Europe/Zurich
TZUNTIL:20241027T010000Z
BEGIN:STANDARD
TZNAME:CET
DTSTART:20211031T030000
TZOFFSETFROM:+0200
TZOFFSETTO:+0100
RDATE:20221030T030000
RDATE:20231029T030000
END:STANDARD
BEGIN:DAYLIGHT
TZNAME:CEST
DTSTART:20220327T020000
TZOFFSETFROM:+0100
TZOFFSETTO:+0200
RDATE:20230326T020000
RDATE:20240331T020000
END:DAYLIGHT
END:VTIMEZONE
BEGIN:VEVENT
UID:31306634-3361-4637-b961-663437383936
DTSTAMP:20260419T195941Z
CATEGORIES:Blues
CLASS:PUBLIC
DESCRIPTION;ALTREP="CID:<FFFF__=0ABBE548DFE235B58f9e8a93d@coffeebean.com>":
 Das Energiebündel kehrt zurück: Jersey Julie ist eine temperamentvolle und
  energiegeladene Sängerin und Saxophonistin mit einer klaren\, warmen und 
 souligen Stimme. Nicht nur mit deren unverwechselbaren Timbre\, sondern au
 ch mit ihrem knurrenden Altsaxophon erobert sie die Herzen und Seelen des 
 Publikums und baut so eine enge Verbindung zu ihnen auf. Die charismatisch
 e Powerfrau liebt es\, mit den Gästen zu interagieren und mischt sich gern
 e unter die tanzende Menge.\nIhr Musikstil basiert auf amerikanischer Root
 s-Musik und enthält Elemente von Blues\, Rock\, Boogie\, Rockabilly\, Folk
 \, Bluegrass und Funk. Den Kern der Musik bilden Julie\, amerikanische Sän
 gerin und Saxophonistin\, die seit einigen Jahren in Südfrankreich lebt\, 
 aber auch ihr neuer Duopartner\, der Schweizer Gitarrist und Sänger Sacha 
 Ruffieux aka Sacha Love aus Fribourg.\nJersey Julie hat CDs in verschieden
 en Besetzungen aufgenommen und ist in zahlreichen renommierten Konzertsäle
 n und auf bekannten Musikfestivals in ganz Europa aufgetreten.\nJersey Jul
 ie (s\, voc\, perc)\, Sacha Ruffieux (g\, voc)\nhttps://www.facebook.com/J
 erseyJulieBand
DTSTART:20221013T181500Z
DTEND:20221013T181500Z
GEO:00;0
LOCATION:
ORGANIZER:
SEQUENCE:1
SUMMARY:Jersey Julie Duo
TRANSP:OPAQUE
URL:https://www.esse.bar/index.php/veranstaltungen/vergangene-veranstaltung
 en/1667-jersey-julie-duo/2022-10-13-20-15
END:VEVENT
END:VCALENDAR
