BEGIN:VCALENDAR
VERSION:2.0
PRODID:-//ESSE Musicbar Winterthur//NONSGML kigkonsult.se iCalcreator 2.41.92//
CALSCALE:GREGORIAN
METHOD:PUBLISH
UID:36633834-3630-4931-b933-656466316336
X-WR-CALNAME:iCagenda
X-WR-CALDESC:Event Management Extension for Joomla!
X-WR-RELCALID:3E26604A-50F4-4449-8B3E-E4F4932D05B5
X-WR-TIMEZONE:Europe/Zurich
BEGIN:VTIMEZONE
TZID:Europe/Zurich
TZUNTIL:20241027T010000Z
BEGIN:STANDARD
TZNAME:CET
DTSTART:20211031T030000
TZOFFSETFROM:+0200
TZOFFSETTO:+0100
RDATE:20221030T030000
RDATE:20231029T030000
END:STANDARD
BEGIN:DAYLIGHT
TZNAME:CEST
DTSTART:20220327T020000
TZOFFSETFROM:+0100
TZOFFSETTO:+0200
RDATE:20230326T020000
RDATE:20240331T020000
END:DAYLIGHT
END:VTIMEZONE
BEGIN:VEVENT
UID:62363930-3362-4937-b965-653530386437
DTSTAMP:20260419T195615Z
CATEGORIES:Blues
CLASS:PUBLIC
DESCRIPTION;ALTREP="CID:<FFFF__=0ABBE548DFE235B58f9e8a93d@coffeebean.com>":
 Der Name ist nicht nur Programm: «Blues West» verpflichtet sich nicht dem 
 traditionellen Blues. Vielmehr trifft die Bezeichnung Blues-Rock zu. Ihr R
 epertoire ist breit gefächert und bietet auch eher unbekannte Covers\, die
  nochmals mit eigenen Versionen gepfeffert werden!\nGerne wird auch in die
  Rockkiste gegriffen! Songs von Rory Gallagher\, Poppa Chubby\, Gary Moore
 \, Walter Trout\, Steve Earl\, John Mayall\, Joe Bonamassa und vielen mehr
  werden mit viel Spielfreude zelebriert.\nSchweisstreibende Nächte sind vo
 rprogrammiert!\nWoerni Stalder (g)\, Birgit Hoeijmakers (voc)\, Hape Schuw
 ey (b)\, Kurt Roos (dr)\nhttps://www.blueswest.ch
DTSTART:20221014T181500Z
DTEND:20221014T181500Z
GEO:00;0
LOCATION:
ORGANIZER:
SEQUENCE:1
SUMMARY:Blues West
TRANSP:OPAQUE
URL:https://www.esse.bar/index.php/veranstaltungen/vergangene-veranstaltung
 en/1668-tba-26/2022-10-14-20-15
END:VEVENT
END:VCALENDAR
