BEGIN:VCALENDAR
VERSION:2.0
PRODID:-//ESSE Musicbar Winterthur//NONSGML kigkonsult.se iCalcreator 2.41.92//
CALSCALE:GREGORIAN
METHOD:PUBLISH
UID:66383563-6561-4434-b636-343834393738
X-WR-CALNAME:iCagenda
X-WR-CALDESC:Event Management Extension for Joomla!
X-WR-RELCALID:3E26604A-50F4-4449-8B3E-E4F4932D05B5
X-WR-TIMEZONE:Europe/Zurich
BEGIN:VTIMEZONE
TZID:Europe/Zurich
TZUNTIL:20241027T010000Z
BEGIN:STANDARD
TZNAME:CET
DTSTART:20211031T030000
TZOFFSETFROM:+0200
TZOFFSETTO:+0100
RDATE:20221030T030000
RDATE:20231029T030000
END:STANDARD
BEGIN:DAYLIGHT
TZNAME:CEST
DTSTART:20220327T020000
TZOFFSETFROM:+0100
TZOFFSETTO:+0200
RDATE:20230326T020000
RDATE:20240331T020000
END:DAYLIGHT
END:VTIMEZONE
BEGIN:VEVENT
UID:62623534-3061-4237-b764-653861383966
DTSTAMP:20260419T195538Z
CATEGORIES:Jazz Jam Point Session
CLASS:PUBLIC
DESCRIPTION;ALTREP="CID:<FFFF__=0ABBE548DFE235B58f9e8a93d@coffeebean.com>":
 Musikanten\, die mitjamen möchten melden sich direkt bei Richard Schmied r
 schmied(at)bluewin.ch | Telefon 044-869 42 32 – mobil 079-433 76 33\nDie O
 rganisatoren von «Jam Point» begrüssen an diesen Abend Repräsentant:innen 
 des Jazzclubs «Cavallo Infernale» aus Stäfa. Dies ist der Auftakt einer Se
 rie von Events\, in denen Clubs aus der Schweiz vorgestellt werden\, die u
 nter anderem auch Jam-Sessions organisieren. Damit soll auch die Zusammena
 rbeit von entsprechenden Organisationen gefördert werden\, mit dem Ziel de
 r Vernetzung dieser Clubs.\nZudem erwarten die Veranstalter dadurch zusätz
 liche wichtige und attraktive Impulse für das Jam-Geschehen in der weitere
 n Region. «Cavallo Infernale» steht für ein sehr attraktives Segment des J
 azz\, wird doch der Funk und Soul in Stäfa besonders gepflegt. Man wird an
  diesem Abend aber auch weitere Stilvarianten des Jazz erleben können\, vo
 n traditionell bis zu modernem Mainstream\, angepasst an die anwesenden Mu
 sikerinnen und Musiker.\nAlle hoffen wir auf viele interessierte\, spielfr
 eudige Jamteilnehmer:innen\, die sehr motiviert sind und dabei mithelfen\,
  die Session auch diesmal zu einem unvergesslichen Event zu machen.\nIn kl
 einen\, regelmässig wechselnden Formationen\, kommen alle zum Spielen. Ber
 eits angemeldet sind: Jay Nicehill (voc)\, Philippe Chrétien (ts)\, Ivan '
 Masha' Künzli (g)\nDie Jam Point Group: Richi Schmied (tp\, flh)\, Bruno B
 osshardt (cl\, s)\, Elmar Kluth (p)\, Timon Roth (b)\, Bernie Ruch (dr)\nh
 ttp://www.jam-point.ch
DTSTART:20221026T181500Z
DTEND:20221026T181500Z
GEO:00;0
LOCATION:
ORGANIZER:
SEQUENCE:1
SUMMARY:Jam Point Session #05
TRANSP:OPAQUE
URL:https://www.esse.bar/index.php/veranstaltungen/vergangene-veranstaltung
 en/1671-jam-point/2022-10-26-20-15
END:VEVENT
END:VCALENDAR
