BEGIN:VCALENDAR
VERSION:2.0
PRODID:-//ESSE Musicbar Winterthur//NONSGML kigkonsult.se iCalcreator 2.41.92//
CALSCALE:GREGORIAN
METHOD:PUBLISH
UID:33383361-6165-4136-b838-643466366366
X-WR-CALNAME:iCagenda
X-WR-CALDESC:Event Management Extension for Joomla!
X-WR-RELCALID:3E26604A-50F4-4449-8B3E-E4F4932D05B5
X-WR-TIMEZONE:Europe/Zurich
BEGIN:VTIMEZONE
TZID:Europe/Zurich
TZUNTIL:20241027T010000Z
BEGIN:STANDARD
TZNAME:CET
DTSTART:20211031T030000
TZOFFSETFROM:+0200
TZOFFSETTO:+0100
RDATE:20221030T030000
RDATE:20231029T030000
END:STANDARD
BEGIN:DAYLIGHT
TZNAME:CEST
DTSTART:20220327T020000
TZOFFSETFROM:+0100
TZOFFSETTO:+0200
RDATE:20230326T020000
RDATE:20240331T020000
END:DAYLIGHT
END:VTIMEZONE
BEGIN:VEVENT
UID:61336139-6331-4135-b933-386662376533
DTSTAMP:20260419T195743Z
CATEGORIES:Jazz
CLASS:PUBLIC
DESCRIPTION;ALTREP="CID:<FFFF__=0ABBE548DFE235B58f9e8a93d@coffeebean.com>":
 Am Anfang war einfach die Lust da\, miteinander Musik zu machen. Alle Musi
 ker von «Pius Da Mutten’s Favorite Things» arbeiteten am Winterthurer Inst
 itut für aktuelle Musik WIAM\, verstanden sich gut und sagten sich oft: «J
 a\, wann spielen wir mal zusammen?»\nSo trommelte der Saxophonist Pius Da 
 Mutten die Musiker im Herbst 2020 zusammen\, um dann im Februar 21 das ers
 te Konzert zu spielen. Leider kam dies wegen Corona nicht zustande\, worau
 f dann im Sommer ein zweiter Versuch gestartet wurde. Es beteiligtten sich
  der versierte Pianist Alfons Struzek\, der weitgereiste Bassist Thomas Jo
 rdi\, der italienische Meistertrommler Silvano Borzachiello\, der sound-tü
 ftlerische Gitarrist Thomas Töngi und der lokal verwurzelte Allround-Saxer
  Pius Da Mutten. Alle Musiker bringen eine stilistisch breite Erfahrung vo
 n Jazz\, Blues\, Rock und Pop mit\, Vollblutmusiker eben!\nDas Repertoire 
 umfasst hauptsächlich die Lieblingsstücke des Saxers. Seien es mehr Fusion
 -orientierte Stücke etwa von Herbie Hancock oder Michael Brecker\, seien e
 s Jazz-Standards von Joe Henderson oder Carla Bley oder mehr bluesige Numm
 ern: Immer geht es um Spielfreude und Groove.\nPius Da Mutten (s)\, Alfons
  Struzeki (p\, keyb)\, Thomas Töngi (g)\, Thomy Jordi (b)\, Silvano Borzac
 chiello (dr)
DTSTART:20221029T181500Z
DTEND:20221029T181500Z
GEO:00;0
LOCATION:
ORGANIZER:
SEQUENCE:1
SUMMARY:Pius Da Mutten’s Favorite Things
TRANSP:OPAQUE
URL:https://www.esse.bar/index.php/veranstaltungen/vergangene-veranstaltung
 en/1672-pius-da-mutten-s-favorite-things/2022-10-29-20-15
END:VEVENT
END:VCALENDAR
