BEGIN:VCALENDAR
VERSION:2.0
PRODID:-//ESSE Musicbar Winterthur//NONSGML kigkonsult.se iCalcreator 2.41.92//
CALSCALE:GREGORIAN
METHOD:PUBLISH
UID:39363431-6332-4131-a235-643233616166
X-WR-CALNAME:iCagenda
X-WR-CALDESC:Event Management Extension for Joomla!
X-WR-RELCALID:3E26604A-50F4-4449-8B3E-E4F4932D05B5
X-WR-TIMEZONE:Europe/Zurich
BEGIN:VTIMEZONE
TZID:Europe/Zurich
TZUNTIL:20241027T010000Z
BEGIN:STANDARD
TZNAME:CET
DTSTART:20221030T030000
TZOFFSETFROM:+0200
TZOFFSETTO:+0100
RDATE:20231029T030000
END:STANDARD
BEGIN:DAYLIGHT
TZNAME:CEST
DTSTART:20220327T020000
TZOFFSETFROM:+0100
TZOFFSETTO:+0200
RDATE:20230326T020000
RDATE:20240331T020000
END:DAYLIGHT
END:VTIMEZONE
BEGIN:VEVENT
UID:36366139-6661-4535-b739-313238353661
DTSTAMP:20260419T195131Z
CATEGORIES:Jazz
CLASS:PUBLIC
DESCRIPTION;ALTREP="CID:<FFFF__=0ABBE548DFE235B58f9e8a93d@coffeebean.com>":
 «Müller-Kramis-Baschnagel» sind ein Jazztrio\, welches der klassischen Kla
 ngästhetik nahekommt. Gregor Müller (p)\, Herbert Kramis (db) und Pius Bas
 chnagel (dr) sind alle drei sehr aktiv in der Jazz-Szene Schweiz (u.a. Mit
 glieder des Zürich Jazz Orchester http://www.zjo.ch/band/ etc.).\nEigentli
 ch wollte das Trio letztes Jahr eine Tournee zu seinem 20-jährigen Bestehe
 n aufgleisen. Corona hat dann - wie bei so vielen - einen Strich durch die
  Rechnung gemacht. Die Zeit haben sie jedoch genutzt und im Juli 2021 im H
 ardstudio Winterthur zusammen mit Moritz Wetter\, unterstützt von SRF2 Kul
 tur\, neue eigene Kompositionen aufgenommen. Diese Aufnahmen werden nun\, 
 als mittlerweile vierte CD namens «Mirror»\, auf der aktuellen Tour vorges
 tellt.\nGeprägt von der Erlebniswelt eines jeden einzelnen\, bilden die St
 ücke eine Reise mit melodiösem\, sehnsuchtsvollem\, malerischem Ausdruck\,
  kantigen Passagen\, gepflegter Klangkultur\, verschrobenen Klängen\, vers
 pielten und stringenten Grooves. Die verwobene Spielweise lässt viele Ausp
 rägungen von Stilarten einfliessen\, seien es lyrische Elemente\, Einflüss
 e aus der kubanischen und brasilianischen Welt oder aus der sogenannt erns
 ten klassischen Musik.\nGregor Müller (p)\, Herbert Kramis (db) und Pius B
 aschnagel (dr)\nhttps://www.gregormueller.chhttp://www.herbertkramis.comht
 tps://www.piusbaschnagel.com
DTSTART:20221102T191500Z
DTEND:20221102T191500Z
GEO:00;0
LOCATION:
ORGANIZER:
SEQUENCE:1
SUMMARY:Müller - Kramis - Baschnagel – «Mirror»
TRANSP:OPAQUE
URL:https://www.esse.bar/index.php/veranstaltungen/vergangene-veranstaltung
 en/1674-mueller-kramis-baschnagel-2/2022-11-02-20-15
END:VEVENT
END:VCALENDAR
