BEGIN:VCALENDAR
VERSION:2.0
PRODID:-//ESSE Musicbar Winterthur//NONSGML kigkonsult.se iCalcreator 2.41.92//
CALSCALE:GREGORIAN
METHOD:PUBLISH
UID:62643639-3031-4864-b266-346666393830
X-WR-CALNAME:iCagenda
X-WR-CALDESC:Event Management Extension for Joomla!
X-WR-RELCALID:3E26604A-50F4-4449-8B3E-E4F4932D05B5
X-WR-TIMEZONE:Europe/Zurich
BEGIN:VTIMEZONE
TZID:Europe/Zurich
TZUNTIL:20241027T010000Z
BEGIN:STANDARD
TZNAME:CET
DTSTART:20221030T030000
TZOFFSETFROM:+0200
TZOFFSETTO:+0100
RDATE:20231029T030000
END:STANDARD
BEGIN:DAYLIGHT
TZNAME:CEST
DTSTART:20220327T020000
TZOFFSETFROM:+0100
TZOFFSETTO:+0200
RDATE:20230326T020000
RDATE:20240331T020000
END:DAYLIGHT
END:VTIMEZONE
BEGIN:VEVENT
UID:61326536-6235-4664-b964-386664376136
DTSTAMP:20260419T200641Z
CATEGORIES:Blues
CLASS:PUBLIC
DESCRIPTION;ALTREP="CID:<FFFF__=0ABBE548DFE235B58f9e8a93d@coffeebean.com>":
 Berühmt für ihre ausdrucksstarke Stimme lebt Christina Jaccard ihre Musik 
 mit tiefer Ehrlichkeit\, Sensibilität\, unwiderstehlichem Power und Charis
 ma. Mit Temperament zelebriert die Sängerin Interpretationen bekannter Son
 gs und gibt ihnen ihre ganz spezielle Prägung. Ihre Kraft und Energie spri
 ngt auf die Menschen im Publikum über und lässt jede Bluesnight zu einem g
 anz besonderen Erlebnis werden.\nEine musikalische Kostbarkeit ist ihre Fo
 rmation mit dem Tasten- und Klangkünstler Christian Rösli. Seinem Pianospi
 el haftet etwas zauberhaftes an\, die musikalische Sprache ist spannend\, 
 luftig\, relaxed\, voll gegenwärtig\, von intuitivem Konzept und quirligen
  Überraschungen.\nChristina Jaccard (voc)\, Christian Rösli (p)\, Thomas R
 einecke (b)\, Steve Grant (dr)\nhttps://www.voicejaccard.ch/musikalische-a
 ngebote/#angebot-ladysingstheblues
DTSTART:20221103T191500Z
DTEND:20221103T191500Z
GEO:00;0
LOCATION:
ORGANIZER:
SEQUENCE:1
SUMMARY:Christina Jaccard - «Lady sings the Blues»
TRANSP:OPAQUE
URL:https://www.esse.bar/index.php/veranstaltungen/vergangene-veranstaltung
 en/1675-christina-jaccard-lady-sings-the-blues-3/2022-11-03-20-15
END:VEVENT
END:VCALENDAR
