BEGIN:VCALENDAR
VERSION:2.0
PRODID:-//ESSE Musicbar Winterthur//NONSGML kigkonsult.se iCalcreator 2.41.92//
CALSCALE:GREGORIAN
METHOD:PUBLISH
UID:62383930-3432-4635-b765-656463366237
X-WR-CALNAME:iCagenda
X-WR-CALDESC:Event Management Extension for Joomla!
X-WR-RELCALID:3E26604A-50F4-4449-8B3E-E4F4932D05B5
X-WR-TIMEZONE:Europe/Zurich
BEGIN:VTIMEZONE
TZID:Europe/Zurich
TZUNTIL:20241027T010000Z
BEGIN:STANDARD
TZNAME:CET
DTSTART:20221030T030000
TZOFFSETFROM:+0200
TZOFFSETTO:+0100
RDATE:20231029T030000
END:STANDARD
BEGIN:DAYLIGHT
TZNAME:CEST
DTSTART:20220327T020000
TZOFFSETFROM:+0100
TZOFFSETTO:+0200
RDATE:20230326T020000
RDATE:20240331T020000
END:DAYLIGHT
END:VTIMEZONE
BEGIN:VEVENT
UID:34656633-3163-4335-b565-636564336230
DTSTAMP:20260419T195537Z
CATEGORIES:Jazz
CLASS:PUBLIC
DESCRIPTION;ALTREP="CID:<FFFF__=0ABBE548DFE235B58f9e8a93d@coffeebean.com>":
 «Yuko &amp\; Joey» bieten ein exklusives Hörerlebnis und präsentieren dem 
 Publikum dabei jede Menge «Good Vibes». Man hört bei jedem Stück\, wie ger
 ne die Beiden miteinander Musik machen und grossen Spass am improvisieren 
 haben.\nDie Kompositionen von Erich Fischer schöpfen aus der stilistisch v
 ielfältigen und abwechslungsreichen Welt des Jazz. Ein wesentliches Merkma
 l dieses Kammer-Jazz-Duos ist die musikalische Interaktion in den Themata 
 und den improvisierten Teilen. Beide Musiker:innen sind an einem grossen D
 ynamikbereich und den vielen Klangfarben von Klavier und Vibraphon interes
 siert. Sie spielen in höchsten und tiefsten Registern\, experimentieren mi
 t gedämpften und gestrichenen Tönen.\nMit im Gepäck hat das Duo die brandn
 eue CD «Tiger Waltz». Auch auf diesen Aufnahmen geht es Yuko &amp\; Joey u
 m das gemeinsame Erkunden des musikalischen Materials. Frei nach Duke Elli
 ngton – «Jazz is the liberty of having a lot of forms» – lassen sie sich d
 abei auf stilistische Diversität ein und entdecken auch in traditionellen 
 Formaten poetische Schönheit.\nYuko Oz (p)\, Erich «Joey Oz» Fischer (vib\
 , perc\, voc)\, Tony Renold (dr)\nhttps://www.erichfischer-musik.ch/yukoan
 djoey\n\nYuko Oz (p) erhielt eine klassische Musikausbildung in Japan. Dan
 n studierte sie improvisierte Musik mit Aki Takase. Sie gewann ein mehrfac
 hes Stipendium für das «Berklee College of Music» in Boston\, machte einen
  Bachelor of Arts in Jazz-Komposition und Arrangement. Sie arbeitete als K
 omponistin und Pianistin für Radio und Fernsehen in Tokio und New York Cit
 y. Yuko spielt als Jazz-Pianistin Konzerte mit vielen stilistisch breit ge
 fächerten Bands. Sie komponierte Musik für die New York City Dance School 
 und für andere Projekte. Zurzeit tritt sie sowohl als Jazz-Pianistin in un
 terschiedlichen Formationen\, als auch als Percussionistin in Formation mi
 t dem Fokus auf brasilianische Musik auf.\nErich «Joey Oz» Fischer (vib) i
 st in Bremgarten/AG aufgewachsen und lebt heute in Aarau. Er studierte kla
 ssisches Schlagzeug und Trompete am Konservatorium in Zürich. 1992 ging er
  nach Boston um sich am «Berklee College of Music» während einem Jahr am V
 ibraphon weiterzubilden. Seit 1988 ist er als Vibraphonist\, Percussionist
 \, Sänger\, Komponist und Arrangeur in verschiedenen Jazz-\, Latin- und Vo
 lksmusikformationen aktiv. Er absolviert Konzerte in der Schweiz\, Europa\
 , Kalifornien\, Boston und New York City und Auftritte in Radio- und Ferns
 ehsendungen. Er hat bei mehr als 20 CD Aufnahmen und Produktionen mitgewir
 kt.
DTSTART:20221104T191500Z
DTEND:20221104T191500Z
GEO:00;0
LOCATION:
ORGANIZER:
SEQUENCE:1
SUMMARY:Yuko & Joey feat. Tony Renold
TRANSP:OPAQUE
URL:https://www.esse.bar/index.php/veranstaltungen/vergangene-veranstaltung
 en/1676-yuko-joey-2/2022-11-04-20-15
END:VEVENT
END:VCALENDAR
