BEGIN:VCALENDAR
VERSION:2.0
PRODID:-//ESSE Musicbar Winterthur//NONSGML kigkonsult.se iCalcreator 2.41.92//
CALSCALE:GREGORIAN
METHOD:PUBLISH
UID:36333731-6464-4338-a262-373135623234
X-WR-CALNAME:iCagenda
X-WR-CALDESC:Event Management Extension for Joomla!
X-WR-RELCALID:3E26604A-50F4-4449-8B3E-E4F4932D05B5
X-WR-TIMEZONE:Europe/Zurich
BEGIN:VTIMEZONE
TZID:Europe/Zurich
TZUNTIL:20241027T010000Z
BEGIN:STANDARD
TZNAME:CET
DTSTART:20221030T030000
TZOFFSETFROM:+0200
TZOFFSETTO:+0100
RDATE:20231029T030000
END:STANDARD
BEGIN:DAYLIGHT
TZNAME:CEST
DTSTART:20220327T020000
TZOFFSETFROM:+0100
TZOFFSETTO:+0200
RDATE:20230326T020000
RDATE:20240331T020000
END:DAYLIGHT
END:VTIMEZONE
BEGIN:VEVENT
UID:39313566-3830-4233-a638-326662323964
DTSTAMP:20260419T195619Z
CATEGORIES:Folk & More
CLASS:PUBLIC
DESCRIPTION;ALTREP="CID:<FFFF__=0ABBE548DFE235B58f9e8a93d@coffeebean.com>":
 «Soultraces» interpretieren bekannte – aber auch weniger bekannte – Musikp
 erlen der Popgeschichte… und sind neu auch mit eigenen Songs unterwegs.\nM
 arianne Lehmann und Chasper Wanner begannen 2018 als Duo – zwei Stimmen\, 
 zwei Gitarren – und spielten mehrheitlich eigenständig interpretierte Cove
 rversionen von Popsongs.\nIm Laufe der letzten zwei Jahre schrieben die be
 iden jedoch vermehrt eigene Lieder\, so dass ihr jetziges Repertoire haupt
 sächlich aus eigenem Material besteht\, welches sich stilistisch zwischen 
 lyrisch-akustischem Pop\, groovigen Beats und Songs mit einer Prise Jazz b
 ewegt.\nAktuell sind «Soultraces» damit beschäftigt\, im Studio ihr erstes
  Album aufzunehmen. Mit dabei sind weitere Musiker (Bass\, Schlagzeug und 
 Perkussion)\, welche auch bei den kommenden Live-Shows mit von der Partie 
 sein werden. Einen Vorgeschmack davon gibt es bereits in der ESSE\, wo Adr
 ian Uhr am Bass und Matthias Füchsle am Schlagzeug mit an Bord sein werden
 .\nMarianne Lehmann (voc\, g\, uku)\, Chasper Wanner (g\, voc)\, Adrian Uh
 r (b)\, Matthias Füchsle (dr)\nwww.soultraces.ch
DTSTART:20221106T183000Z
DTEND:20221106T183000Z
GEO:00;0
LOCATION:
ORGANIZER:
SEQUENCE:1
SUMMARY:Soultraces
TRANSP:OPAQUE
URL:https://www.esse.bar/index.php/veranstaltungen/vergangene-veranstaltung
 en/1677-soultraces/2022-11-06-19-30
END:VEVENT
END:VCALENDAR
