BEGIN:VCALENDAR
VERSION:2.0
PRODID:-//ESSE Musicbar Winterthur//NONSGML kigkonsult.se iCalcreator 2.41.92//
CALSCALE:GREGORIAN
METHOD:PUBLISH
UID:66353332-6534-4266-b162-353030393339
X-WR-CALNAME:iCagenda
X-WR-CALDESC:Event Management Extension for Joomla!
X-WR-RELCALID:3E26604A-50F4-4449-8B3E-E4F4932D05B5
X-WR-TIMEZONE:Europe/Zurich
BEGIN:VTIMEZONE
TZID:Europe/Zurich
TZUNTIL:20241027T010000Z
BEGIN:STANDARD
TZNAME:CET
DTSTART:20221030T030000
TZOFFSETFROM:+0200
TZOFFSETTO:+0100
RDATE:20231029T030000
END:STANDARD
BEGIN:DAYLIGHT
TZNAME:CEST
DTSTART:20220327T020000
TZOFFSETFROM:+0100
TZOFFSETTO:+0200
RDATE:20230326T020000
RDATE:20240331T020000
END:DAYLIGHT
END:VTIMEZONE
BEGIN:VEVENT
UID:33336631-6330-4837-a236-303066393438
DTSTAMP:20260419T195231Z
CATEGORIES:Folk & More
CLASS:PUBLIC
DESCRIPTION;ALTREP="CID:<FFFF__=0ABBE548DFE235B58f9e8a93d@coffeebean.com>":
 «The world is going down\, that’s for sure\, we‘re standing on the edge\, 
 is there a cure?» Das sind die ersten Worte des Titelsongs «The Edge» des 
 neuen Albums der Band «My Cup Of Tea». Der Song\, obwohl vor den aktuellen
  Krisen entstanden\, ist leider sehr aktuell. Und auch der Chorus von «Rai
 ndrops» passt beängstigend gut zur aktuellen Weltlage: «It’s not the time 
 to start a fight\, it’s not about who’s wrong or right. We should try to m
 ake our life bright.»\nWer nun aber destruktive Endzeitstimmung erwartet\,
  liegt falsch. «My Cup Of Tea» setzen dort an\, wo sie vor der Pandemie au
 fgehört haben: melancholische Klänge\,eingängige Melodien\, viel Spielfreu
 de und Träumereien. Die Winterthurer Band hat das Beste aus der Situation 
 gemacht und in der Zeit\, in der keine Auftritte möglich waren\, viele Stu
 nden im Studio verbracht. Ihren Bandraum in einem Schulhaus durften sie la
 nge Zeit nicht benutzen und Videokonferenztools eignen sich noch immer nic
 ht zum Proben! Entstanden ist so das neue Akustik-Album «The Edge»\, das n
 un auf den bekannten Online-Plattformen verfügbar ist.\nDenise Moser (voc\
 , g)\, Nadia Holdener (b\, bvoc)\, Christian Blaser (g\, uku\, perc\, keyb
 \, bvoc)\nwww.mycupoftea.ch
DTSTART:20221111T191500Z
DTEND:20221111T191500Z
GEO:00;0
LOCATION:
ORGANIZER:
SEQUENCE:1
SUMMARY:My Cup Of Tea – «The Edge»
TRANSP:OPAQUE
URL:https://www.esse.bar/index.php/veranstaltungen/vergangene-veranstaltung
 en/1678-tba-27/2022-11-11-20-15
END:VEVENT
END:VCALENDAR
